BEGIN:VCALENDAR
VERSION:2.0
PRODID:-//AusschreibungsRadar//Timeline//DE
CALSCALE:GREGORIAN
METHOD:PUBLISH
X-WR-CALNAME:Projekt Stadtverwaltung Bad Homburg v. d. Höhe, Fort- und Weiterbild
X-WR-TIMEZONE:Europe/Berlin
BEGIN:VEVENT
UID:2ddd6ba766cd0af3@ausschreibungsradar.com
DTSTAMP:20260424T232944Z
DTSTART;VALUE=DATE:20251202
DTEND;VALUE=DATE:20251202
SUMMARY:Zuschlag — Stadtverwaltung Bad Homburg v. d. Höhe\, Fort- und Weiterbild
DESCRIPTION:Phase: Zuschlag | Beschreibung: Vergabeergebnis — Auftrag wurde erteilt oder Verfahren beendet. | Link: https://ausschreibungsradar.com/ausschreibung/1fb7e805-7e41-4ccb-9290-e2705b92a538/
URL:https://ausschreibungsradar.com/ausschreibung/1fb7e805-7e41-4ccb-9290-e2705b92a538/
END:VEVENT
BEGIN:VEVENT
UID:acd3eef2bddfe949@ausschreibungsradar.com
DTSTAMP:20260424T232944Z
DTSTART;VALUE=DATE:20251209
DTEND;VALUE=DATE:20251209
SUMMARY:Ausschreibung — Stadtverwaltung Bad Homburg v. d. Höhe\, Fort- und Weiterbild
DESCRIPTION:Phase: Ausschreibung | Beschreibung: Angebote werden eingeholt | Link: https://ausschreibungsradar.com/ausschreibung/3f8cace6-c049-47ab-bf5f-6ffdf0825a0b/
URL:https://ausschreibungsradar.com/ausschreibung/3f8cace6-c049-47ab-bf5f-6ffdf0825a0b/
END:VEVENT
BEGIN:VEVENT
UID:1bbf8aeec34cc0e4@ausschreibungsradar.com
DTSTAMP:20260424T232944Z
DTSTART;VALUE=DATE:20260410
DTEND;VALUE=DATE:20260410
SUMMARY:Vergabeergebnis — Stadtverwaltung Bad Homburg v. d. Höhe\, Fort- und Weiterbild
DESCRIPTION:Phase: Vergabeergebnis | Beschreibung: Auftrag wurde zugeschlagen | Link: https://ausschreibungsradar.com/ausschreibung/5bdc2c12-4039-4d44-a154-b0b319851018/
URL:https://ausschreibungsradar.com/ausschreibung/5bdc2c12-4039-4d44-a154-b0b319851018/
END:VEVENT
END:VCALENDAR
