BEGIN:VCALENDAR
VERSION:2.0
PRODID:-//AusschreibungsRadar//Timeline//DE
CALSCALE:GREGORIAN
METHOD:PUBLISH
X-WR-CALNAME:Projekt Projektsteuerung für: Umstrukturierung und Modernisierung de
X-WR-TIMEZONE:Europe/Berlin
BEGIN:VEVENT
UID:0dae1ac98950b74e@ausschreibungsradar.com
DTSTAMP:20260424T203929Z
DTSTART;VALUE=DATE:20260303
DTEND;VALUE=DATE:20260303
SUMMARY:Ausschreibung — Projektsteuerung für: Umstrukturierung und Modernisierung de
DESCRIPTION:Phase: Ausschreibung | Beschreibung: Angebote werden eingeholt | Link: https://ausschreibungsradar.com/ausschreibung/3f9bfb73-602e-4167-a17b-a5cba8c85189/
URL:https://ausschreibungsradar.com/ausschreibung/3f9bfb73-602e-4167-a17b-a5cba8c85189/
END:VEVENT
BEGIN:VEVENT
UID:cb75f2779b93720d@ausschreibungsradar.com
DTSTAMP:20260424T203929Z
DTSTART;VALUE=DATE:20260303
DTEND;VALUE=DATE:20260303
SUMMARY:Ausschreibung — Projektsteuerung für: Umstrukturierung und Modernisierung de
DESCRIPTION:Phase: Ausschreibung | Beschreibung: Offizielle Ausschreibung mit Bieterfrist. | Link: https://ausschreibungsradar.com/ausschreibung/67728f56-b2df-40f1-a48f-f378f2cc48c7/
URL:https://ausschreibungsradar.com/ausschreibung/67728f56-b2df-40f1-a48f-f378f2cc48c7/
END:VEVENT
END:VCALENDAR
