BEGIN:VCALENDAR
VERSION:2.0
PRODID:-//AusschreibungsRadar//Timeline//DE
CALSCALE:GREGORIAN
METHOD:PUBLISH
X-WR-CALNAME:Projekt Heizung
X-WR-TIMEZONE:Europe/Berlin
BEGIN:VEVENT
UID:1f155197ba3ba862@ausschreibungsradar.com
DTSTAMP:20260424T145004Z
DTSTART;VALUE=DATE:20240603
DTEND;VALUE=DATE:20240603
SUMMARY:Angebotsfrist — Heizung
DESCRIPTION:Phase: Ausschreibung | Beschreibung: Angebote werden eingeholt | Link: https://ausschreibungsradar.com/ausschreibung/3fab358e-44ca-4c1b-8496-41142aaf95cd/
URL:https://ausschreibungsradar.com/ausschreibung/3fab358e-44ca-4c1b-8496-41142aaf95cd/
END:VEVENT
BEGIN:VEVENT
UID:acb6b7eb5ddc5dd3@ausschreibungsradar.com
DTSTAMP:20260424T145004Z
DTSTART;VALUE=DATE:20250206
DTEND;VALUE=DATE:20250206
SUMMARY:Vergabeergebnis — Heizung
DESCRIPTION:Phase: Vergabeergebnis | Beschreibung: Auftrag wurde zugeschlagen | Link: https://ausschreibungsradar.com/ausschreibung/a22329d0-0a04-4874-9a00-c7cda9b53d2a/
URL:https://ausschreibungsradar.com/ausschreibung/a22329d0-0a04-4874-9a00-c7cda9b53d2a/
END:VEVENT
END:VCALENDAR
