BEGIN:VCALENDAR
VERSION:2.0
PRODID:-//AusschreibungsRadar//Timeline//DE
CALSCALE:GREGORIAN
METHOD:PUBLISH
X-WR-CALNAME:Projekt Ausstellungsauf- und Abbau
X-WR-TIMEZONE:Europe/Berlin
BEGIN:VEVENT
UID:35b5638b5799e3b0@ausschreibungsradar.com
DTSTAMP:20260424T232950Z
DTSTART;VALUE=DATE:20260311
DTEND;VALUE=DATE:20260311
SUMMARY:Angebotsfrist — Ausstellungsauf- und Abbau
DESCRIPTION:Phase: Ausschreibung | Beschreibung: Angebote werden eingeholt | Link: https://ausschreibungsradar.com/ausschreibung/3fb74134-8e4b-4ab7-82b3-6f932517fbdc/ | Geschätzter Wert: 350000 €
URL:https://ausschreibungsradar.com/ausschreibung/3fb74134-8e4b-4ab7-82b3-6f932517fbdc/
END:VEVENT
END:VCALENDAR
