BEGIN:VCALENDAR
VERSION:2.0
PRODID:-//AusschreibungsRadar//Timeline//DE
CALSCALE:GREGORIAN
METHOD:PUBLISH
X-WR-CALNAME:Projekt '	
Beschaffung von Atemschutzgeräten und Masken mit Zubehör 
X-WR-TIMEZONE:Europe/Berlin
BEGIN:VEVENT
UID:ef8b6aed7229c5b3@ausschreibungsradar.com
DTSTAMP:20260424T120511Z
DTSTART;VALUE=DATE:20250123
DTEND;VALUE=DATE:20250123
SUMMARY:Angebotsfrist — '	\nBeschaffung von Atemschutzgeräten und Masken mit Zubehör 
DESCRIPTION:Phase: Ausschreibung | Beschreibung: Angebote werden eingeholt | Link: https://ausschreibungsradar.com/ausschreibung/4020a8be-0511-41c8-8724-c2f0fc8b951d/
URL:https://ausschreibungsradar.com/ausschreibung/4020a8be-0511-41c8-8724-c2f0fc8b951d/
END:VEVENT
BEGIN:VEVENT
UID:a1a4259902bb7ae2@ausschreibungsradar.com
DTSTAMP:20260424T120511Z
DTSTART;VALUE=DATE:20241211
DTEND;VALUE=DATE:20241211
SUMMARY:Ausschreibung — '	\nBeschaffung von Atemschutzgeräten und Masken mit Zubehör 
DESCRIPTION:Phase: Ausschreibung | Beschreibung: Offizielle Ausschreibung mit Bieterfrist. | Link: https://ausschreibungsradar.com/ausschreibung/4728b184-ba9f-4d77-b0e3-d4b54e0440f7/
URL:https://ausschreibungsradar.com/ausschreibung/4728b184-ba9f-4d77-b0e3-d4b54e0440f7/
END:VEVENT
END:VCALENDAR
