BEGIN:VCALENDAR
VERSION:2.0
PRODID:-//AusschreibungsRadar//Timeline//DE
CALSCALE:GREGORIAN
METHOD:PUBLISH
X-WR-CALNAME:Projekt Universitätsklinikum Münster - Gebäude 3800 - Brandschutzsan
X-WR-TIMEZONE:Europe/Berlin
BEGIN:VEVENT
UID:bdb75c4b86450f0e@ausschreibungsradar.com
DTSTAMP:20260425T220924Z
DTSTART;VALUE=DATE:20240206
DTEND;VALUE=DATE:20240206
SUMMARY:Ausschreibung — Universitätsklinikum Münster - Gebäude 3800 - Brandschutzsan
DESCRIPTION:Phase: Ausschreibung | Beschreibung: Offizielle Ausschreibung mit Bieterfrist. | Link: https://ausschreibungsradar.com/ausschreibung/2c9fa18e-c6a9-4d30-94d7-ed89214098bc/
URL:https://ausschreibungsradar.com/ausschreibung/2c9fa18e-c6a9-4d30-94d7-ed89214098bc/
END:VEVENT
BEGIN:VEVENT
UID:540afc2da529c14d@ausschreibungsradar.com
DTSTAMP:20260425T220924Z
DTSTART;VALUE=DATE:20240207
DTEND;VALUE=DATE:20240207
SUMMARY:Zuschlag — Universitätsklinikum Münster - Gebäude 3800 - Brandschutzsan
DESCRIPTION:Phase: Zuschlag | Beschreibung: Vergabeergebnis — Auftrag wurde erteilt oder Verfahren beendet. | Link: https://ausschreibungsradar.com/ausschreibung/67eb5fc6-4766-4bca-9453-6bc98658d3d8/
URL:https://ausschreibungsradar.com/ausschreibung/67eb5fc6-4766-4bca-9453-6bc98658d3d8/
END:VEVENT
BEGIN:VEVENT
UID:25d1a73e9c2c66f3@ausschreibungsradar.com
DTSTAMP:20260425T220924Z
DTSTART;VALUE=DATE:20240208
DTEND;VALUE=DATE:20240208
SUMMARY:Zuschlag — Universitätsklinikum Münster - Gebäude 3800 - Brandschutzsan
DESCRIPTION:Phase: Zuschlag | Beschreibung: Vergabeergebnis — Auftrag wurde erteilt oder Verfahren beendet. | Link: https://ausschreibungsradar.com/ausschreibung/404df37f-bf2e-4246-9742-3cc2de67f056/
URL:https://ausschreibungsradar.com/ausschreibung/404df37f-bf2e-4246-9742-3cc2de67f056/
END:VEVENT
END:VCALENDAR
