BEGIN:VCALENDAR
VERSION:2.0
PRODID:-//AusschreibungsRadar//Timeline//DE
CALSCALE:GREGORIAN
METHOD:PUBLISH
X-WR-CALNAME:Projekt Umsetzung des Einstiegsinstruments für SuS ab der Jahrgangss
X-WR-TIMEZONE:Europe/Berlin
BEGIN:VEVENT
UID:ab3288693b758e4b@ausschreibungsradar.com
DTSTAMP:20260425T105410Z
DTSTART;VALUE=DATE:20250716
DTEND;VALUE=DATE:20250716
SUMMARY:Angebotsfrist — Umsetzung des Einstiegsinstruments für SuS ab der Jahrgangss
DESCRIPTION:Phase: Ausschreibung | Beschreibung: Angebote werden eingeholt | Link: https://ausschreibungsradar.com/ausschreibung/4073b664-37d8-4e3e-8a1f-570e45fc815a/
URL:https://ausschreibungsradar.com/ausschreibung/4073b664-37d8-4e3e-8a1f-570e45fc815a/
END:VEVENT
BEGIN:VEVENT
UID:3c131b6ae1b580c8@ausschreibungsradar.com
DTSTAMP:20260425T105410Z
DTSTART;VALUE=DATE:20250616
DTEND;VALUE=DATE:20250616
SUMMARY:Ausschreibung — Umsetzung des Einstiegsinstruments für SuS ab der Jahrgangss
DESCRIPTION:Phase: Ausschreibung | Beschreibung: Offizielle Ausschreibung mit Bieterfrist. | Link: https://ausschreibungsradar.com/ausschreibung/84c80abc-1930-497c-96fc-6b52e64f91d1/
URL:https://ausschreibungsradar.com/ausschreibung/84c80abc-1930-497c-96fc-6b52e64f91d1/
END:VEVENT
BEGIN:VEVENT
UID:bf8d58e867103e40@ausschreibungsradar.com
DTSTAMP:20260425T105410Z
DTSTART;VALUE=DATE:20251210
DTEND;VALUE=DATE:20251210
SUMMARY:Vergabeergebnis — Umsetzung des Einstiegsinstruments für SuS ab der Jahrgangss
DESCRIPTION:Phase: Vergabeergebnis | Beschreibung: Auftrag wurde zugeschlagen | Link: https://ausschreibungsradar.com/ausschreibung/1e223c90-a96d-4fef-aaf7-e866c5ddf4c4/
URL:https://ausschreibungsradar.com/ausschreibung/1e223c90-a96d-4fef-aaf7-e866c5ddf4c4/
END:VEVENT
END:VCALENDAR
