BEGIN:VCALENDAR
VERSION:2.0
PRODID:-//AusschreibungsRadar//Timeline//DE
CALSCALE:GREGORIAN
METHOD:PUBLISH
X-WR-CALNAME:Projekt Leasingfahrzeug 2026
X-WR-TIMEZONE:Europe/Berlin
BEGIN:VEVENT
UID:992739ce56cf0c5f@ausschreibungsradar.com
DTSTAMP:20260425T213616Z
DTSTART;VALUE=DATE:20250708
DTEND;VALUE=DATE:20250708
SUMMARY:Angebotsfrist — Leasingfahrzeug 2026
DESCRIPTION:Phase: Ausschreibung | Beschreibung: Angebote werden eingeholt | Link: https://ausschreibungsradar.com/ausschreibung/40dcaa39-a748-425a-949f-c1612e4ef8c5/
URL:https://ausschreibungsradar.com/ausschreibung/40dcaa39-a748-425a-949f-c1612e4ef8c5/
END:VEVENT
BEGIN:VEVENT
UID:4936be341b2a8bd6@ausschreibungsradar.com
DTSTAMP:20260425T213616Z
DTSTART;VALUE=DATE:20251201
DTEND;VALUE=DATE:20251201
SUMMARY:Vergabeergebnis — Leasingfahrzeug 2026
DESCRIPTION:Phase: Vergabeergebnis | Beschreibung: Auftrag wurde zugeschlagen | Link: https://ausschreibungsradar.com/ausschreibung/7602c4ca-5f95-4dfb-83a6-40621d9c441e/
URL:https://ausschreibungsradar.com/ausschreibung/7602c4ca-5f95-4dfb-83a6-40621d9c441e/
END:VEVENT
END:VCALENDAR
