BEGIN:VCALENDAR
VERSION:2.0
PRODID:-//AusschreibungsRadar//Timeline//DE
CALSCALE:GREGORIAN
METHOD:PUBLISH
X-WR-CALNAME:Projekt Neubau (Lehr-)Rettungswache, Unterkunftsgebäude und Parkhaus
X-WR-TIMEZONE:Europe/Berlin
BEGIN:VEVENT
UID:5a0fe01d3a9fb6f0@ausschreibungsradar.com
DTSTAMP:20260425T151645Z
DTSTART;VALUE=DATE:20240709
DTEND;VALUE=DATE:20240709
SUMMARY:Ausschreibung — Neubau (Lehr-)Rettungswache\, Unterkunftsgebäude und Parkhaus
DESCRIPTION:Phase: Ausschreibung | Beschreibung: Angebote werden eingeholt | Link: https://ausschreibungsradar.com/ausschreibung/410f337b-ff7e-4d73-8ff7-995277113f02/
URL:https://ausschreibungsradar.com/ausschreibung/410f337b-ff7e-4d73-8ff7-995277113f02/
END:VEVENT
BEGIN:VEVENT
UID:d5126750b87d469a@ausschreibungsradar.com
DTSTAMP:20260425T151645Z
DTSTART;VALUE=DATE:20240709
DTEND;VALUE=DATE:20240709
SUMMARY:Ausschreibung — Neubau (Lehr-)Rettungswache\, Unterkunftsgebäude und Parkhaus
DESCRIPTION:Phase: Ausschreibung | Beschreibung: Offizielle Ausschreibung mit Bieterfrist. | Link: https://ausschreibungsradar.com/ausschreibung/3cedb4c4-d5f1-4ebe-a0a6-8949e905ecb9/
URL:https://ausschreibungsradar.com/ausschreibung/3cedb4c4-d5f1-4ebe-a0a6-8949e905ecb9/
END:VEVENT
BEGIN:VEVENT
UID:b949842fd5b38f5a@ausschreibungsradar.com
DTSTAMP:20260425T151645Z
DTSTART;VALUE=DATE:20240710
DTEND;VALUE=DATE:20240710
SUMMARY:Ausschreibung — Neubau (Lehr-)Rettungswache\, Unterkunftsgebäude und Parkhaus
DESCRIPTION:Phase: Ausschreibung | Beschreibung: Offizielle Ausschreibung mit Bieterfrist. | Link: https://ausschreibungsradar.com/ausschreibung/ted-413085-2024/
URL:https://ausschreibungsradar.com/ausschreibung/ted-413085-2024/
END:VEVENT
BEGIN:VEVENT
UID:d993d1961b42b401@ausschreibungsradar.com
DTSTAMP:20260425T151645Z
DTSTART;VALUE=DATE:20260203
DTEND;VALUE=DATE:20260203
SUMMARY:Vergabeergebnis — Neubau (Lehr-)Rettungswache\, Unterkunftsgebäude und Parkhaus
DESCRIPTION:Phase: Vergabeergebnis | Beschreibung: Auftrag wurde zugeschlagen | Link: https://ausschreibungsradar.com/ausschreibung/0dbbd06a-cab6-4de2-a95a-ae9dd8f0e6f0/
URL:https://ausschreibungsradar.com/ausschreibung/0dbbd06a-cab6-4de2-a95a-ae9dd8f0e6f0/
END:VEVENT
END:VCALENDAR
