BEGIN:VCALENDAR
VERSION:2.0
PRODID:-//AusschreibungsRadar//Timeline//DE
CALSCALE:GREGORIAN
METHOD:PUBLISH
X-WR-CALNAME:Projekt Instandsetzung von Heideflächen im FFH-Gebiet „Dünen- und He
X-WR-TIMEZONE:Europe/Berlin
BEGIN:VEVENT
UID:7c99f56600751b61@ausschreibungsradar.com
DTSTAMP:20260424T054744Z
DTSTART;VALUE=DATE:20250924
DTEND;VALUE=DATE:20250924
SUMMARY:Angebotsfrist — Instandsetzung von Heideflächen im FFH-Gebiet „Dünen- und He
DESCRIPTION:Phase: Ausschreibung | Beschreibung: Angebote werden eingeholt | Link: https://ausschreibungsradar.com/ausschreibung/412e1801-0040-4879-8f8e-9f80f263a99a/
URL:https://ausschreibungsradar.com/ausschreibung/412e1801-0040-4879-8f8e-9f80f263a99a/
END:VEVENT
BEGIN:VEVENT
UID:889dd54ee429e5e8@ausschreibungsradar.com
DTSTAMP:20260424T054744Z
DTSTART;VALUE=DATE:20250811
DTEND;VALUE=DATE:20250811
SUMMARY:Ausschreibung — Instandsetzung von Heideflächen im FFH-Gebiet „Dünen- und He
DESCRIPTION:Phase: Ausschreibung | Beschreibung: Offizielle Ausschreibung mit Bieterfrist. | Link: https://ausschreibungsradar.com/ausschreibung/6cdd7075-4adb-4032-b3b8-de4f25ecdb26/
URL:https://ausschreibungsradar.com/ausschreibung/6cdd7075-4adb-4032-b3b8-de4f25ecdb26/
END:VEVENT
BEGIN:VEVENT
UID:ef5ed6bfac3d3fec@ausschreibungsradar.com
DTSTAMP:20260424T054744Z
DTSTART;VALUE=DATE:20250811
DTEND;VALUE=DATE:20250811
SUMMARY:Ausschreibung — Instandsetzung von Heideflächen im FFH-Gebiet „Dünen- und He
DESCRIPTION:Phase: Ausschreibung | Beschreibung: Offizielle Ausschreibung mit Bieterfrist. | Link: https://ausschreibungsradar.com/ausschreibung/24257620/
URL:https://ausschreibungsradar.com/ausschreibung/24257620/
END:VEVENT
END:VCALENDAR
