BEGIN:VCALENDAR
VERSION:2.0
PRODID:-//AusschreibungsRadar//Timeline//DE
CALSCALE:GREGORIAN
METHOD:PUBLISH
X-WR-CALNAME:Projekt Starkstrom- und Fernmeldeanlagen
X-WR-TIMEZONE:Europe/Berlin
BEGIN:VEVENT
UID:a77f391442f0a31d@ausschreibungsradar.com
DTSTAMP:20260425T134847Z
DTSTART;VALUE=DATE:20260218
DTEND;VALUE=DATE:20260218
SUMMARY:Angebotsfrist — Starkstrom- und Fernmeldeanlagen
DESCRIPTION:Phase: Ausschreibung | Beschreibung: Angebote werden eingeholt | Link: https://ausschreibungsradar.com/ausschreibung/416a296f-8206-4148-9db7-2686ae2b07bd/
URL:https://ausschreibungsradar.com/ausschreibung/416a296f-8206-4148-9db7-2686ae2b07bd/
END:VEVENT
BEGIN:VEVENT
UID:0e60a2af3ee6272a@ausschreibungsradar.com
DTSTAMP:20260425T134847Z
DTSTART;VALUE=DATE:20260108
DTEND;VALUE=DATE:20260108
SUMMARY:Ausschreibung — Starkstrom- und Fernmeldeanlagen
DESCRIPTION:Phase: Ausschreibung | Beschreibung: Offizielle Ausschreibung mit Bieterfrist. | Link: https://ausschreibungsradar.com/ausschreibung/5072f173-086a-47f1-b5e8-e6837f2a68cc/
URL:https://ausschreibungsradar.com/ausschreibung/5072f173-086a-47f1-b5e8-e6837f2a68cc/
END:VEVENT
BEGIN:VEVENT
UID:83888f3fc444b1b3@ausschreibungsradar.com
DTSTAMP:20260425T134847Z
DTSTART;VALUE=DATE:20260410
DTEND;VALUE=DATE:20260410
SUMMARY:Vergabeergebnis — Starkstrom- und Fernmeldeanlagen
DESCRIPTION:Phase: Vergabeergebnis | Beschreibung: Auftrag wurde zugeschlagen | Link: https://ausschreibungsradar.com/ausschreibung/4740f04d-3fc2-4e92-b9dc-653b83943d91/
URL:https://ausschreibungsradar.com/ausschreibung/4740f04d-3fc2-4e92-b9dc-653b83943d91/
END:VEVENT
END:VCALENDAR
