BEGIN:VCALENDAR
VERSION:2.0
PRODID:-//AusschreibungsRadar//Timeline//DE
CALSCALE:GREGORIAN
METHOD:PUBLISH
X-WR-CALNAME:Projekt Containerausstattung der Wertstoffhöfe im Landkreis Kronach
X-WR-TIMEZONE:Europe/Berlin
BEGIN:VEVENT
UID:923100693a1813cf@ausschreibungsradar.com
DTSTAMP:20260425T130328Z
DTSTART;VALUE=DATE:20241016
DTEND;VALUE=DATE:20241016
SUMMARY:Angebotsfrist — Containerausstattung der Wertstoffhöfe im Landkreis Kronach
DESCRIPTION:Phase: Ausschreibung | Beschreibung: Angebote werden eingeholt | Link: https://ausschreibungsradar.com/ausschreibung/4a426f3e-7ab9-4336-a4ef-cde24c86d2fb/
URL:https://ausschreibungsradar.com/ausschreibung/4a426f3e-7ab9-4336-a4ef-cde24c86d2fb/
END:VEVENT
BEGIN:VEVENT
UID:c31011b49e8483f1@ausschreibungsradar.com
DTSTAMP:20260425T130328Z
DTSTART;VALUE=DATE:20240911
DTEND;VALUE=DATE:20240911
SUMMARY:Ausschreibung — Containerausstattung der Wertstoffhöfe im Landkreis Kronach
DESCRIPTION:Phase: Ausschreibung | Beschreibung: Offizielle Ausschreibung mit Bieterfrist. | Link: https://ausschreibungsradar.com/ausschreibung/d21507a5-442f-4454-9dc2-bd2f52252987/
URL:https://ausschreibungsradar.com/ausschreibung/d21507a5-442f-4454-9dc2-bd2f52252987/
END:VEVENT
BEGIN:VEVENT
UID:4bc0753c6be05fec@ausschreibungsradar.com
DTSTAMP:20260425T130328Z
DTSTART;VALUE=DATE:20241119
DTEND;VALUE=DATE:20241119
SUMMARY:Vergabeergebnis — Containerausstattung der Wertstoffhöfe im Landkreis Kronach
DESCRIPTION:Phase: Vergabeergebnis | Beschreibung: Auftrag wurde zugeschlagen | Link: https://ausschreibungsradar.com/ausschreibung/4170ae0a-3853-43fc-bf6e-28a10f81d92c/
URL:https://ausschreibungsradar.com/ausschreibung/4170ae0a-3853-43fc-bf6e-28a10f81d92c/
END:VEVENT
BEGIN:VEVENT
UID:bb1f189880650210@ausschreibungsradar.com
DTSTAMP:20260425T130328Z
DTSTART;VALUE=DATE:20241119
DTEND;VALUE=DATE:20241119
SUMMARY:Zuschlag — Containerausstattung der Wertstoffhöfe im Landkreis Kronach
DESCRIPTION:Phase: Zuschlag | Beschreibung: Vergabeergebnis — Auftrag wurde erteilt oder Verfahren beendet. | Link: https://ausschreibungsradar.com/ausschreibung/8fac7b27-df0c-4773-b751-e6fe4e025e43/
URL:https://ausschreibungsradar.com/ausschreibung/8fac7b27-df0c-4773-b751-e6fe4e025e43/
END:VEVENT
END:VCALENDAR
