BEGIN:VCALENDAR
VERSION:2.0
PRODID:-//AusschreibungsRadar//Timeline//DE
CALSCALE:GREGORIAN
METHOD:PUBLISH
X-WR-CALNAME:Projekt Kauf eines Gerätewagen Gefahrgut für die Landesfeuerwehrschu
X-WR-TIMEZONE:Europe/Berlin
BEGIN:VEVENT
UID:dd9f080fdd8a9c97@ausschreibungsradar.com
DTSTAMP:20260425T143704Z
DTSTART;VALUE=DATE:20250829
DTEND;VALUE=DATE:20250829
SUMMARY:Angebotsfrist — Kauf eines Gerätewagen Gefahrgut für die Landesfeuerwehrschu
DESCRIPTION:Phase: Ausschreibung | Beschreibung: Angebote werden eingeholt | Link: https://ausschreibungsradar.com/ausschreibung/affa9fd0-5496-4369-849c-afbe470528bb/
URL:https://ausschreibungsradar.com/ausschreibung/affa9fd0-5496-4369-849c-afbe470528bb/
END:VEVENT
BEGIN:VEVENT
UID:87c81d914396059b@ausschreibungsradar.com
DTSTAMP:20260425T143704Z
DTSTART;VALUE=DATE:20250715
DTEND;VALUE=DATE:20250715
SUMMARY:Ausschreibung — Kauf eines Gerätewagen Gefahrgut für die Landesfeuerwehrschu
DESCRIPTION:Phase: Ausschreibung | Beschreibung: Offizielle Ausschreibung mit Bieterfrist. | Link: https://ausschreibungsradar.com/ausschreibung/e5c9f5fc-1efb-4784-9879-3f33b4fbcf96/
URL:https://ausschreibungsradar.com/ausschreibung/e5c9f5fc-1efb-4784-9879-3f33b4fbcf96/
END:VEVENT
BEGIN:VEVENT
UID:03516de7a9b89ee9@ausschreibungsradar.com
DTSTAMP:20260425T143704Z
DTSTART;VALUE=DATE:20251006
DTEND;VALUE=DATE:20251006
SUMMARY:Vergabeergebnis — Kauf eines Gerätewagen Gefahrgut für die Landesfeuerwehrschu
DESCRIPTION:Phase: Vergabeergebnis | Beschreibung: Auftrag wurde zugeschlagen | Link: https://ausschreibungsradar.com/ausschreibung/41b26a07-9d24-4bc5-89e3-ca7cba2459ba/
URL:https://ausschreibungsradar.com/ausschreibung/41b26a07-9d24-4bc5-89e3-ca7cba2459ba/
END:VEVENT
END:VCALENDAR
