BEGIN:VCALENDAR
VERSION:2.0
PRODID:-//AusschreibungsRadar//Timeline//DE
CALSCALE:GREGORIAN
METHOD:PUBLISH
X-WR-CALNAME:Projekt Gebäudeleittechnik - Kirberger Hof
X-WR-TIMEZONE:Europe/Berlin
BEGIN:VEVENT
UID:2a9876eb22be1894@ausschreibungsradar.com
DTSTAMP:20260425T155231Z
DTSTART;VALUE=DATE:20251110
DTEND;VALUE=DATE:20251110
SUMMARY:Angebotsfrist — Gebäudeleittechnik - Kirberger Hof
DESCRIPTION:Phase: Ausschreibung | Beschreibung: Angebote werden eingeholt | Link: https://ausschreibungsradar.com/ausschreibung/2af99511-dab9-403e-a2bf-17d504b1405a/
URL:https://ausschreibungsradar.com/ausschreibung/2af99511-dab9-403e-a2bf-17d504b1405a/
END:VEVENT
BEGIN:VEVENT
UID:aeee148662c0c411@ausschreibungsradar.com
DTSTAMP:20260425T155231Z
DTSTART;VALUE=DATE:20251120
DTEND;VALUE=DATE:20251120
SUMMARY:Vergabeergebnis — Gebäudeleittechnik - Kirberger Hof
DESCRIPTION:Phase: Vergabeergebnis | Beschreibung: Auftrag wurde zugeschlagen | Link: https://ausschreibungsradar.com/ausschreibung/41b67caa-bb90-45e5-b887-4093f56eccb1/
URL:https://ausschreibungsradar.com/ausschreibung/41b67caa-bb90-45e5-b887-4093f56eccb1/
END:VEVENT
END:VCALENDAR
