BEGIN:VCALENDAR
VERSION:2.0
PRODID:-//AusschreibungsRadar//Timeline//DE
CALSCALE:GREGORIAN
METHOD:PUBLISH
X-WR-CALNAME:Projekt Trockenbauarbeiten Turnhallen Pfeffenhausen
X-WR-TIMEZONE:Europe/Berlin
BEGIN:VEVENT
UID:72c8dd2bea524cc0@ausschreibungsradar.com
DTSTAMP:20260424T211912Z
DTSTART;VALUE=DATE:20250915
DTEND;VALUE=DATE:20250915
SUMMARY:Angebotsfrist — Trockenbauarbeiten Turnhallen Pfeffenhausen
DESCRIPTION:Phase: Ausschreibung | Beschreibung: Angebote werden eingeholt | Link: https://ausschreibungsradar.com/ausschreibung/42278a55-b43a-4db5-a2ec-db639a98db71/
URL:https://ausschreibungsradar.com/ausschreibung/42278a55-b43a-4db5-a2ec-db639a98db71/
END:VEVENT
END:VCALENDAR
