BEGIN:VCALENDAR
VERSION:2.0
PRODID:-//AusschreibungsRadar//Timeline//DE
CALSCALE:GREGORIAN
METHOD:PUBLISH
X-WR-CALNAME:Projekt Forschungs- und Laborgebäude des Helmholtz-Zentrum für Infek
X-WR-TIMEZONE:Europe/Berlin
BEGIN:VEVENT
UID:7bc4796c0923947c@ausschreibungsradar.com
DTSTAMP:20260424T181509Z
DTSTART;VALUE=DATE:20240226
DTEND;VALUE=DATE:20240226
SUMMARY:Ausschreibung — Forschungs- und Laborgebäude des Helmholtz-Zentrum für Infek
DESCRIPTION:Phase: Ausschreibung | Beschreibung: Angebote werden eingeholt | Link: https://ausschreibungsradar.com/ausschreibung/42367d00-1e4a-4708-ae24-5f5ad4e08478/
URL:https://ausschreibungsradar.com/ausschreibung/42367d00-1e4a-4708-ae24-5f5ad4e08478/
END:VEVENT
BEGIN:VEVENT
UID:c716840e2cd85cb2@ausschreibungsradar.com
DTSTAMP:20260424T181509Z
DTSTART;VALUE=DATE:20241202
DTEND;VALUE=DATE:20241202
SUMMARY:Vergabeergebnis — Forschungs- und Laborgebäude des Helmholtz-Zentrum für Infek
DESCRIPTION:Phase: Vergabeergebnis | Beschreibung: Auftrag wurde zugeschlagen | Link: https://ausschreibungsradar.com/ausschreibung/a6070fc6-6427-4c3b-adcb-528dd1870350/ | Auftragnehmer: Code of Practice Architec
URL:https://ausschreibungsradar.com/ausschreibung/a6070fc6-6427-4c3b-adcb-528dd1870350/
END:VEVENT
END:VCALENDAR
