BEGIN:VCALENDAR
VERSION:2.0
PRODID:-//AusschreibungsRadar//Timeline//DE
CALSCALE:GREGORIAN
METHOD:PUBLISH
X-WR-CALNAME:Projekt Mutter-Kind-Zentrum Auf der Bult, Hannover - Gebäudereinigun
X-WR-TIMEZONE:Europe/Berlin
BEGIN:VEVENT
UID:eb45957aac421b09@ausschreibungsradar.com
DTSTAMP:20260424T155055Z
DTSTART;VALUE=DATE:20240109
DTEND;VALUE=DATE:20240109
SUMMARY:Angebotsfrist — Mutter-Kind-Zentrum Auf der Bult\, Hannover - Gebäudereinigun
DESCRIPTION:Phase: Ausschreibung | Beschreibung: Angebote werden eingeholt | Link: https://ausschreibungsradar.com/ausschreibung/236486ec-fc43-4b01-9147-efe5bdc484bd/ | Geschätzter Wert: 80000 €
URL:https://ausschreibungsradar.com/ausschreibung/236486ec-fc43-4b01-9147-efe5bdc484bd/
END:VEVENT
BEGIN:VEVENT
UID:ddd370432d47890e@ausschreibungsradar.com
DTSTAMP:20260424T155055Z
DTSTART;VALUE=DATE:20231208
DTEND;VALUE=DATE:20231208
SUMMARY:Ausschreibung — Mutter-Kind-Zentrum Auf der Bult\, Hannover - Gebäudereinigun
DESCRIPTION:Phase: Ausschreibung | Beschreibung: Offizielle Ausschreibung mit Bieterfrist. | Link: https://ausschreibungsradar.com/ausschreibung/e7b019bb-f31a-4289-b1cb-f948d0920c8d/
URL:https://ausschreibungsradar.com/ausschreibung/e7b019bb-f31a-4289-b1cb-f948d0920c8d/
END:VEVENT
BEGIN:VEVENT
UID:9cca1a535798707a@ausschreibungsradar.com
DTSTAMP:20260424T155055Z
DTSTART;VALUE=DATE:20240312
DTEND;VALUE=DATE:20240312
SUMMARY:Zuschlag — Mutter-Kind-Zentrum Auf der Bult\, Hannover - Gebäudereinigun
DESCRIPTION:Phase: Zuschlag | Beschreibung: Vergabeergebnis — Auftrag wurde erteilt oder Verfahren beendet. | Link: https://ausschreibungsradar.com/ausschreibung/a7804dcc-be1c-4b6d-8722-09e798c595e5/
URL:https://ausschreibungsradar.com/ausschreibung/a7804dcc-be1c-4b6d-8722-09e798c595e5/
END:VEVENT
BEGIN:VEVENT
UID:eff4e30f1eadeea8@ausschreibungsradar.com
DTSTAMP:20260424T155055Z
DTSTART;VALUE=DATE:20240313
DTEND;VALUE=DATE:20240313
SUMMARY:Vergabeergebnis — Mutter-Kind-Zentrum Auf der Bult\, Hannover - Gebäudereinigun
DESCRIPTION:Phase: Vergabeergebnis | Beschreibung: Auftrag wurde zugeschlagen | Link: https://ausschreibungsradar.com/ausschreibung/42991c55-c8c8-48f2-bf29-a7ef47c6aeba/ | Geschätzter Wert: 80000 €
URL:https://ausschreibungsradar.com/ausschreibung/42991c55-c8c8-48f2-bf29-a7ef47c6aeba/
END:VEVENT
BEGIN:VEVENT
UID:c6f52a93fbc7a3a9@ausschreibungsradar.com
DTSTAMP:20260424T155055Z
DTSTART;VALUE=DATE:20240319
DTEND;VALUE=DATE:20240319
SUMMARY:Zuschlag — Mutter-Kind-Zentrum Auf der Bult\, Hannover - Gebäudereinigun
DESCRIPTION:Phase: Zuschlag | Beschreibung: Vergabeergebnis — Auftrag wurde erteilt oder Verfahren beendet. | Link: https://ausschreibungsradar.com/ausschreibung/935e13ed-d110-4029-9df7-cba84b28c727/
URL:https://ausschreibungsradar.com/ausschreibung/935e13ed-d110-4029-9df7-cba84b28c727/
END:VEVENT
BEGIN:VEVENT
UID:ba3a85a0a2da0ef3@ausschreibungsradar.com
DTSTAMP:20260424T155055Z
DTSTART;VALUE=DATE:20240325
DTEND;VALUE=DATE:20240325
SUMMARY:Vorinformation — Mutter-Kind-Zentrum Auf der Bult\, Hannover - Gebäudereinigun
DESCRIPTION:Phase: Vorinformation | Beschreibung: Vorab-Ankündigung der Vergabestelle — keine verbindliche Ausschreibung. | Link: https://ausschreibungsradar.com/ausschreibung/09189d75-5e6f-410e-ae32-1e6a8027153c
URL:https://ausschreibungsradar.com/ausschreibung/09189d75-5e6f-410e-ae32-1e6a8027153c/
END:VEVENT
END:VCALENDAR
