BEGIN:VCALENDAR
VERSION:2.0
PRODID:-//AusschreibungsRadar//Timeline//DE
CALSCALE:GREGORIAN
METHOD:PUBLISH
X-WR-CALNAME:Projekt Planungsleistungen Tiefbau für Infrastrukturmaßnahmen im Ber
X-WR-TIMEZONE:Europe/Berlin
BEGIN:VEVENT
UID:24c3f3b9005e459b@ausschreibungsradar.com
DTSTAMP:20260424T175233Z
DTSTART;VALUE=DATE:20240927
DTEND;VALUE=DATE:20240927
SUMMARY:Ausschreibung — Planungsleistungen Tiefbau für Infrastrukturmaßnahmen im Ber
DESCRIPTION:Phase: Ausschreibung | Beschreibung: Angebote werden eingeholt | Link: https://ausschreibungsradar.com/ausschreibung/01cce14f-b9f9-40f0-a9c0-4483e7b42f68/
URL:https://ausschreibungsradar.com/ausschreibung/01cce14f-b9f9-40f0-a9c0-4483e7b42f68/
END:VEVENT
BEGIN:VEVENT
UID:eba2fb95b2fd7298@ausschreibungsradar.com
DTSTAMP:20260424T175233Z
DTSTART;VALUE=DATE:20240927
DTEND;VALUE=DATE:20240927
SUMMARY:Ausschreibung — Planungsleistungen Tiefbau für Infrastrukturmaßnahmen im Ber
DESCRIPTION:Phase: Ausschreibung | Beschreibung: Offizielle Ausschreibung mit Bieterfrist. | Link: https://ausschreibungsradar.com/ausschreibung/431e9a52-7aca-4d37-b058-1ae018152d4d/
URL:https://ausschreibungsradar.com/ausschreibung/431e9a52-7aca-4d37-b058-1ae018152d4d/
END:VEVENT
BEGIN:VEVENT
UID:7b878d0f6f48062c@ausschreibungsradar.com
DTSTAMP:20260424T175233Z
DTSTART;VALUE=DATE:20241113
DTEND;VALUE=DATE:20241113
SUMMARY:Zuschlag — Planungsleistungen Tiefbau für Infrastrukturmaßnahmen im Ber
DESCRIPTION:Phase: Zuschlag | Beschreibung: Vergabeergebnis — Auftrag wurde erteilt oder Verfahren beendet. | Link: https://ausschreibungsradar.com/ausschreibung/ba948172-3203-4889-b70e-a5606a82cce6/
URL:https://ausschreibungsradar.com/ausschreibung/ba948172-3203-4889-b70e-a5606a82cce6/
END:VEVENT
BEGIN:VEVENT
UID:6d30de92fc6af1dc@ausschreibungsradar.com
DTSTAMP:20260424T175233Z
DTSTART;VALUE=DATE:20241208
DTEND;VALUE=DATE:20241208
SUMMARY:Vergabeergebnis — Planungsleistungen Tiefbau für Infrastrukturmaßnahmen im Ber
DESCRIPTION:Phase: Vergabeergebnis | Beschreibung: Alle Angebote ausgeschlossen | Link: https://ausschreibungsradar.com/ausschreibung/42c7c63d-e7ad-4c26-a3da-1d883f9d7fb5/
URL:https://ausschreibungsradar.com/ausschreibung/42c7c63d-e7ad-4c26-a3da-1d883f9d7fb5/
END:VEVENT
END:VCALENDAR
