BEGIN:VCALENDAR
VERSION:2.0
PRODID:-//AusschreibungsRadar//Timeline//DE
CALSCALE:GREGORIAN
METHOD:PUBLISH
X-WR-CALNAME:Projekt Planung Schadstoffsanierung und Abfallmanagement
X-WR-TIMEZONE:Europe/Berlin
BEGIN:VEVENT
UID:c56b5e7c1dbebab8@ausschreibungsradar.com
DTSTAMP:20260425T115318Z
DTSTART;VALUE=DATE:20260422
DTEND;VALUE=DATE:20260422
SUMMARY:Angebotsfrist — Planung Schadstoffsanierung und Abfallmanagement
DESCRIPTION:Phase: Ausschreibung | Beschreibung: Angebote werden eingeholt | Link: https://ausschreibungsradar.com/ausschreibung/435b6641-a922-435b-a580-46dc39c3fccd/
URL:https://ausschreibungsradar.com/ausschreibung/435b6641-a922-435b-a580-46dc39c3fccd/
END:VEVENT
BEGIN:VEVENT
UID:1061f5a28f87e71b@ausschreibungsradar.com
DTSTAMP:20260425T115318Z
DTSTART;VALUE=DATE:20260310
DTEND;VALUE=DATE:20260310
SUMMARY:Ausschreibung — Planung Schadstoffsanierung und Abfallmanagement
DESCRIPTION:Phase: Ausschreibung | Beschreibung: Offizielle Ausschreibung mit Bieterfrist. | Link: https://ausschreibungsradar.com/ausschreibung/ce827690-c4f4-4f6b-89be-063607978b2c/
URL:https://ausschreibungsradar.com/ausschreibung/ce827690-c4f4-4f6b-89be-063607978b2c/
END:VEVENT
END:VCALENDAR
