BEGIN:VCALENDAR
VERSION:2.0
PRODID:-//AusschreibungsRadar//Timeline//DE
CALSCALE:GREGORIAN
METHOD:PUBLISH
X-WR-CALNAME:Projekt Sanierung einer ehemaligen Hauptschule, Freianlagen Bauabsch
X-WR-TIMEZONE:Europe/Berlin
BEGIN:VEVENT
UID:f75688f8c90b3919@ausschreibungsradar.com
DTSTAMP:20260425T020215Z
DTSTART;VALUE=DATE:20241219
DTEND;VALUE=DATE:20241219
SUMMARY:Ausschreibung — Sanierung einer ehemaligen Hauptschule\, Freianlagen Bauabsch
DESCRIPTION:Phase: Ausschreibung | Beschreibung: Offizielle Ausschreibung mit Bieterfrist. | Link: https://ausschreibungsradar.com/ausschreibung/286b671c-ba81-4b08-b421-9408ee362023/
URL:https://ausschreibungsradar.com/ausschreibung/286b671c-ba81-4b08-b421-9408ee362023/
END:VEVENT
BEGIN:VEVENT
UID:308d9bd4d9039d51@ausschreibungsradar.com
DTSTAMP:20260425T020215Z
DTSTART;VALUE=DATE:20250221
DTEND;VALUE=DATE:20250221
SUMMARY:Angebotsfrist — Sanierung einer ehemaligen Hauptschule\, Freianlagen Bauabsch
DESCRIPTION:Phase: Ausschreibung | Beschreibung: Angebote werden eingeholt | Link: https://ausschreibungsradar.com/ausschreibung/4369ed6a-ae1f-4b19-b0ca-075672aad557/
URL:https://ausschreibungsradar.com/ausschreibung/4369ed6a-ae1f-4b19-b0ca-075672aad557/
END:VEVENT
BEGIN:VEVENT
UID:6a5e72171b42c84e@ausschreibungsradar.com
DTSTAMP:20260425T020215Z
DTSTART;VALUE=DATE:20250115
DTEND;VALUE=DATE:20250115
SUMMARY:Ausschreibung — Sanierung einer ehemaligen Hauptschule\, Freianlagen Bauabsch
DESCRIPTION:Phase: Ausschreibung | Beschreibung: Offizielle Ausschreibung mit Bieterfrist. | Link: https://ausschreibungsradar.com/ausschreibung/762f7a91-1acf-4057-ae9a-861c4d143474/
URL:https://ausschreibungsradar.com/ausschreibung/762f7a91-1acf-4057-ae9a-861c4d143474/
END:VEVENT
BEGIN:VEVENT
UID:d5b3837a9a3b5019@ausschreibungsradar.com
DTSTAMP:20260425T020215Z
DTSTART;VALUE=DATE:20250115
DTEND;VALUE=DATE:20250115
SUMMARY:Ausschreibung — Sanierung einer ehemaligen Hauptschule\, Freianlagen Bauabsch
DESCRIPTION:Phase: Ausschreibung | Beschreibung: Offizielle Ausschreibung mit Bieterfrist. | Link: https://ausschreibungsradar.com/ausschreibung/1eeeae5d-d188-491e-b161-70ff1a76960f/
URL:https://ausschreibungsradar.com/ausschreibung/1eeeae5d-d188-491e-b161-70ff1a76960f/
END:VEVENT
BEGIN:VEVENT
UID:7c1a6a5c04a7b057@ausschreibungsradar.com
DTSTAMP:20260425T020215Z
DTSTART;VALUE=DATE:20250115
DTEND;VALUE=DATE:20250115
SUMMARY:Ausschreibung — Sanierung einer ehemaligen Hauptschule\, Freianlagen Bauabsch
DESCRIPTION:Phase: Ausschreibung | Beschreibung: Offizielle Ausschreibung mit Bieterfrist. | Link: https://ausschreibungsradar.com/ausschreibung/7ed89ec0-5174-48a2-bf7f-75986eb78de2/
URL:https://ausschreibungsradar.com/ausschreibung/7ed89ec0-5174-48a2-bf7f-75986eb78de2/
END:VEVENT
BEGIN:VEVENT
UID:e881b5c6a677cf86@ausschreibungsradar.com
DTSTAMP:20260425T020215Z
DTSTART;VALUE=DATE:20250401
DTEND;VALUE=DATE:20250401
SUMMARY:Vergabeergebnis — Sanierung einer ehemaligen Hauptschule\, Freianlagen Bauabsch
DESCRIPTION:Phase: Vergabeergebnis | Beschreibung: Auftrag wurde zugeschlagen | Link: https://ausschreibungsradar.com/ausschreibung/c40a7e1b-5da4-4f95-97e8-d65555fcf6fd/
URL:https://ausschreibungsradar.com/ausschreibung/c40a7e1b-5da4-4f95-97e8-d65555fcf6fd/
END:VEVENT
END:VCALENDAR
