BEGIN:VCALENDAR
VERSION:2.0
PRODID:-//AusschreibungsRadar//Timeline//DE
CALSCALE:GREGORIAN
METHOD:PUBLISH
X-WR-CALNAME:Projekt DLR Hydrogenium Nord Lampoldshausen- Objektplanung Gebäude, 
X-WR-TIMEZONE:Europe/Berlin
BEGIN:VEVENT
UID:096bb4c141d51383@ausschreibungsradar.com
DTSTAMP:20260425T102657Z
DTSTART;VALUE=DATE:20240223
DTEND;VALUE=DATE:20240223
SUMMARY:Angebotsfrist — DLR Hydrogenium Nord Lampoldshausen- Objektplanung Gebäude\, 
DESCRIPTION:Phase: Ausschreibung | Beschreibung: Angebote werden eingeholt | Link: https://ausschreibungsradar.com/ausschreibung/43a50ea4-87ea-4006-b749-3e3153d29e88/
URL:https://ausschreibungsradar.com/ausschreibung/43a50ea4-87ea-4006-b749-3e3153d29e88/
END:VEVENT
BEGIN:VEVENT
UID:bc9ca8bec1682b71@ausschreibungsradar.com
DTSTAMP:20260425T102657Z
DTSTART;VALUE=DATE:20231120
DTEND;VALUE=DATE:20231120
SUMMARY:Ausschreibung — DLR Hydrogenium Nord Lampoldshausen- Objektplanung Gebäude\, 
DESCRIPTION:Phase: Ausschreibung | Beschreibung: Offizielle Ausschreibung mit Bieterfrist. | Link: https://ausschreibungsradar.com/ausschreibung/74078ec7-f5fa-4344-a9ba-9a76277312fd/
URL:https://ausschreibungsradar.com/ausschreibung/74078ec7-f5fa-4344-a9ba-9a76277312fd/
END:VEVENT
BEGIN:VEVENT
UID:1ca10c2978a69bab@ausschreibungsradar.com
DTSTAMP:20260425T102657Z
DTSTART;VALUE=DATE:20231120
DTEND;VALUE=DATE:20231120
SUMMARY:Ausschreibung — DLR Hydrogenium Nord Lampoldshausen- Objektplanung Gebäude\, 
DESCRIPTION:Phase: Ausschreibung | Beschreibung: Offizielle Ausschreibung mit Bieterfrist. | Link: https://ausschreibungsradar.com/ausschreibung/0e1d3cc9-5983-452c-a915-5ea3d4c1f93e/
URL:https://ausschreibungsradar.com/ausschreibung/0e1d3cc9-5983-452c-a915-5ea3d4c1f93e/
END:VEVENT
BEGIN:VEVENT
UID:4fa8661f16c5d37a@ausschreibungsradar.com
DTSTAMP:20260425T102657Z
DTSTART;VALUE=DATE:20231120
DTEND;VALUE=DATE:20231120
SUMMARY:Ausschreibung — DLR Hydrogenium Nord Lampoldshausen- Objektplanung Gebäude\, 
DESCRIPTION:Phase: Ausschreibung | Beschreibung: Offizielle Ausschreibung mit Bieterfrist. | Link: https://ausschreibungsradar.com/ausschreibung/b5e47740-d525-4e8d-8df8-80e2ac85a23c/
URL:https://ausschreibungsradar.com/ausschreibung/b5e47740-d525-4e8d-8df8-80e2ac85a23c/
END:VEVENT
BEGIN:VEVENT
UID:3fcdfa9833145f8a@ausschreibungsradar.com
DTSTAMP:20260425T102657Z
DTSTART;VALUE=DATE:20231120
DTEND;VALUE=DATE:20231120
SUMMARY:Ausschreibung — DLR Hydrogenium Nord Lampoldshausen- Objektplanung Gebäude\, 
DESCRIPTION:Phase: Ausschreibung | Beschreibung: Offizielle Ausschreibung mit Bieterfrist. | Link: https://ausschreibungsradar.com/ausschreibung/8a71e60b-c6c7-4693-a506-ddb83be82716/
URL:https://ausschreibungsradar.com/ausschreibung/8a71e60b-c6c7-4693-a506-ddb83be82716/
END:VEVENT
BEGIN:VEVENT
UID:ae629749942e3d72@ausschreibungsradar.com
DTSTAMP:20260425T102657Z
DTSTART;VALUE=DATE:20231120
DTEND;VALUE=DATE:20231120
SUMMARY:Ausschreibung — DLR Hydrogenium Nord Lampoldshausen- Objektplanung Gebäude\, 
DESCRIPTION:Phase: Ausschreibung | Beschreibung: Offizielle Ausschreibung mit Bieterfrist. | Link: https://ausschreibungsradar.com/ausschreibung/09e1ba26-ba02-462a-b29a-0ff465c4cc3e/
URL:https://ausschreibungsradar.com/ausschreibung/09e1ba26-ba02-462a-b29a-0ff465c4cc3e/
END:VEVENT
END:VCALENDAR
