BEGIN:VCALENDAR
VERSION:2.0
PRODID:-//AusschreibungsRadar//Timeline//DE
CALSCALE:GREGORIAN
METHOD:PUBLISH
X-WR-CALNAME:Projekt Erweiterung der Grundschule Münchsmünster - Architekt
X-WR-TIMEZONE:Europe/Berlin
BEGIN:VEVENT
UID:70c647b94bd1defd@ausschreibungsradar.com
DTSTAMP:20260424T082057Z
DTSTART;VALUE=DATE:20251029
DTEND;VALUE=DATE:20251029
SUMMARY:Ausschreibung — Erweiterung der Grundschule Münchsmünster - Architekt
DESCRIPTION:Phase: Ausschreibung | Beschreibung: Angebote werden eingeholt | Link: https://ausschreibungsradar.com/ausschreibung/44571e54-ae0b-415c-b763-71d0b33adf46/
URL:https://ausschreibungsradar.com/ausschreibung/44571e54-ae0b-415c-b763-71d0b33adf46/
END:VEVENT
BEGIN:VEVENT
UID:52b0d8d9663fb14a@ausschreibungsradar.com
DTSTAMP:20260424T082057Z
DTSTART;VALUE=DATE:20260324
DTEND;VALUE=DATE:20260324
SUMMARY:Zuschlag — Erweiterung der Grundschule Münchsmünster - Architekt
DESCRIPTION:Phase: Zuschlag | Beschreibung: Vergabeergebnis — Auftrag wurde erteilt oder Verfahren beendet. | Link: https://ausschreibungsradar.com/ausschreibung/65e92482-faa9-41ec-aa0f-90980e2c7fdb/
URL:https://ausschreibungsradar.com/ausschreibung/65e92482-faa9-41ec-aa0f-90980e2c7fdb/
END:VEVENT
BEGIN:VEVENT
UID:1a1f6f554951c191@ausschreibungsradar.com
DTSTAMP:20260424T082057Z
DTSTART;VALUE=DATE:20260416
DTEND;VALUE=DATE:20260416
SUMMARY:Vergabeergebnis — Erweiterung der Grundschule Münchsmünster - Architekt
DESCRIPTION:Phase: Vergabeergebnis | Beschreibung: Auftrag wurde zugeschlagen | Link: https://ausschreibungsradar.com/ausschreibung/43e93c4d-fa8c-4c64-99a1-5b9b61ecd967/
URL:https://ausschreibungsradar.com/ausschreibung/43e93c4d-fa8c-4c64-99a1-5b9b61ecd967/
END:VEVENT
BEGIN:VEVENT
UID:0306a161307fbb60@ausschreibungsradar.com
DTSTAMP:20260424T082057Z
DTSTART;VALUE=DATE:20260416
DTEND;VALUE=DATE:20260416
SUMMARY:Zuschlag — Erweiterung der Grundschule Münchsmünster - Architekt
DESCRIPTION:Phase: Zuschlag | Beschreibung: Vergabeergebnis — Auftrag wurde erteilt oder Verfahren beendet. | Link: https://ausschreibungsradar.com/ausschreibung/02b1d12f-e836-486c-8ccf-752c0d90cff0/
URL:https://ausschreibungsradar.com/ausschreibung/02b1d12f-e836-486c-8ccf-752c0d90cff0/
END:VEVENT
BEGIN:VEVENT
UID:ec4eb374d54922ac@ausschreibungsradar.com
DTSTAMP:20260424T082057Z
DTSTART;VALUE=DATE:20260416
DTEND;VALUE=DATE:20260416
SUMMARY:Zuschlag — Erweiterung der Grundschule Münchsmünster - Architekt
DESCRIPTION:Phase: Zuschlag | Beschreibung: Vergabeergebnis — Auftrag wurde erteilt oder Verfahren beendet. | Link: https://ausschreibungsradar.com/ausschreibung/21f2d293-e323-444c-b8fb-27996d6a2a57/
URL:https://ausschreibungsradar.com/ausschreibung/21f2d293-e323-444c-b8fb-27996d6a2a57/
END:VEVENT
END:VCALENDAR
