BEGIN:VCALENDAR
VERSION:2.0
PRODID:-//AusschreibungsRadar//Timeline//DE
CALSCALE:GREGORIAN
METHOD:PUBLISH
X-WR-CALNAME:Projekt Neubau Förderzentrum Bartolomeo-Garelli-Schule Bamberg mit H
X-WR-TIMEZONE:Europe/Berlin
BEGIN:VEVENT
UID:adbb2dcdfda6b48f@ausschreibungsradar.com
DTSTAMP:20260425T124245Z
DTSTART;VALUE=DATE:20250716
DTEND;VALUE=DATE:20250716
SUMMARY:Ausschreibung — Neubau Förderzentrum Bartolomeo-Garelli-Schule Bamberg mit H
DESCRIPTION:Phase: Ausschreibung | Beschreibung: Angebote werden eingeholt | Link: https://ausschreibungsradar.com/ausschreibung/4409f052-66c5-484a-955f-2bda00c8c4f5/
URL:https://ausschreibungsradar.com/ausschreibung/4409f052-66c5-484a-955f-2bda00c8c4f5/
END:VEVENT
BEGIN:VEVENT
UID:f61bb211455b2b5c@ausschreibungsradar.com
DTSTAMP:20260425T124245Z
DTSTART;VALUE=DATE:20250716
DTEND;VALUE=DATE:20250716
SUMMARY:Ausschreibung — Neubau Förderzentrum Bartolomeo-Garelli-Schule Bamberg mit H
DESCRIPTION:Phase: Ausschreibung | Beschreibung: Offizielle Ausschreibung mit Bieterfrist. | Link: https://ausschreibungsradar.com/ausschreibung/a3eb89cb-2d4b-4c39-b7c1-1aa43048e04d/
URL:https://ausschreibungsradar.com/ausschreibung/a3eb89cb-2d4b-4c39-b7c1-1aa43048e04d/
END:VEVENT
BEGIN:VEVENT
UID:cc6846196ff62982@ausschreibungsradar.com
DTSTAMP:20260425T124245Z
DTSTART;VALUE=DATE:20250716
DTEND;VALUE=DATE:20250716
SUMMARY:Ausschreibung — Neubau Förderzentrum Bartolomeo-Garelli-Schule Bamberg mit H
DESCRIPTION:Phase: Ausschreibung | Beschreibung: Offizielle Ausschreibung mit Bieterfrist. | Link: https://ausschreibungsradar.com/ausschreibung/140938e6-72f2-42a5-a29b-c3c464640f4d/
URL:https://ausschreibungsradar.com/ausschreibung/140938e6-72f2-42a5-a29b-c3c464640f4d/
END:VEVENT
BEGIN:VEVENT
UID:326f9ffd81e06399@ausschreibungsradar.com
DTSTAMP:20260425T124245Z
DTSTART;VALUE=DATE:20260407
DTEND;VALUE=DATE:20260407
SUMMARY:Vergabeergebnis — Neubau Förderzentrum Bartolomeo-Garelli-Schule Bamberg mit H
DESCRIPTION:Phase: Vergabeergebnis | Beschreibung: Auftrag wurde zugeschlagen | Link: https://ausschreibungsradar.com/ausschreibung/669adea4-93db-4cab-a004-8e44d2a66722/
URL:https://ausschreibungsradar.com/ausschreibung/669adea4-93db-4cab-a004-8e44d2a66722/
END:VEVENT
END:VCALENDAR
