BEGIN:VCALENDAR
VERSION:2.0
PRODID:-//AusschreibungsRadar//Timeline//DE
CALSCALE:GREGORIAN
METHOD:PUBLISH
X-WR-CALNAME:Projekt HPS - Dachabdichtungarbeiten Los 3 (Altbau)
X-WR-TIMEZONE:Europe/Berlin
BEGIN:VEVENT
UID:ef16fe6bce5a642e@ausschreibungsradar.com
DTSTAMP:20260424T150758Z
DTSTART;VALUE=DATE:20241119
DTEND;VALUE=DATE:20241119
SUMMARY:Angebotsfrist — HPS - Dachabdichtungarbeiten Los 3 (Altbau)
DESCRIPTION:Phase: Ausschreibung | Beschreibung: Angebote werden eingeholt | Link: https://ausschreibungsradar.com/ausschreibung/449032a2-31dc-409e-8910-85569ac38b56/
URL:https://ausschreibungsradar.com/ausschreibung/449032a2-31dc-409e-8910-85569ac38b56/
END:VEVENT
BEGIN:VEVENT
UID:9e9e089e2913850a@ausschreibungsradar.com
DTSTAMP:20260424T150758Z
DTSTART;VALUE=DATE:20241018
DTEND;VALUE=DATE:20241018
SUMMARY:Ausschreibung — HPS - Dachabdichtungarbeiten Los 3 (Altbau)
DESCRIPTION:Phase: Ausschreibung | Beschreibung: Offizielle Ausschreibung mit Bieterfrist. | Link: https://ausschreibungsradar.com/ausschreibung/bbe159b1-a48d-44a3-92c2-64026244080a/
URL:https://ausschreibungsradar.com/ausschreibung/bbe159b1-a48d-44a3-92c2-64026244080a/
END:VEVENT
BEGIN:VEVENT
UID:0bc41d7fb0c6c3f8@ausschreibungsradar.com
DTSTAMP:20260424T150758Z
DTSTART;VALUE=DATE:20241018
DTEND;VALUE=DATE:20241018
SUMMARY:Ausschreibung — HPS - Dachabdichtungarbeiten Los 3 (Altbau)
DESCRIPTION:Phase: Ausschreibung | Beschreibung: Offizielle Ausschreibung mit Bieterfrist. | Link: https://ausschreibungsradar.com/ausschreibung/deaa1e77-ef1f-49dd-b2da-db1a404b53e7/
URL:https://ausschreibungsradar.com/ausschreibung/deaa1e77-ef1f-49dd-b2da-db1a404b53e7/
END:VEVENT
BEGIN:VEVENT
UID:44ca297cb82508fd@ausschreibungsradar.com
DTSTAMP:20260424T150758Z
DTSTART;VALUE=DATE:20250105
DTEND;VALUE=DATE:20250105
SUMMARY:Zuschlag — HPS - Dachabdichtungarbeiten Los 3 (Altbau)
DESCRIPTION:Phase: Zuschlag | Beschreibung: Vergabeergebnis — Auftrag wurde erteilt oder Verfahren beendet. | Link: https://ausschreibungsradar.com/ausschreibung/42d0232c-a39b-4626-a6f9-f637c881c61d/
URL:https://ausschreibungsradar.com/ausschreibung/42d0232c-a39b-4626-a6f9-f637c881c61d/
END:VEVENT
BEGIN:VEVENT
UID:0c95bebc4a265149@ausschreibungsradar.com
DTSTAMP:20260424T150758Z
DTSTART;VALUE=DATE:20250106
DTEND;VALUE=DATE:20250106
SUMMARY:Vergabeergebnis — HPS - Dachabdichtungarbeiten Los 3 (Altbau)
DESCRIPTION:Phase: Vergabeergebnis | Beschreibung: Auftrag wurde zugeschlagen | Link: https://ausschreibungsradar.com/ausschreibung/cd1c0d01-5bb6-41e6-b126-eaef571c017e/ | Geschätzter Wert: 373592 €
URL:https://ausschreibungsradar.com/ausschreibung/cd1c0d01-5bb6-41e6-b126-eaef571c017e/
END:VEVENT
BEGIN:VEVENT
UID:e81bf519e52bffa2@ausschreibungsradar.com
DTSTAMP:20260424T150758Z
DTSTART;VALUE=DATE:20250106
DTEND;VALUE=DATE:20250106
SUMMARY:Zuschlag — HPS - Dachabdichtungarbeiten Los 3 (Altbau)
DESCRIPTION:Phase: Zuschlag | Beschreibung: Vergabeergebnis — Auftrag wurde erteilt oder Verfahren beendet. | Link: https://ausschreibungsradar.com/ausschreibung/f812aa26-8947-4fed-aeed-c65499bedd43/
URL:https://ausschreibungsradar.com/ausschreibung/f812aa26-8947-4fed-aeed-c65499bedd43/
END:VEVENT
END:VCALENDAR
