BEGIN:VCALENDAR
VERSION:2.0
PRODID:-//AusschreibungsRadar//Timeline//DE
CALSCALE:GREGORIAN
METHOD:PUBLISH
X-WR-CALNAME:Projekt Mensaneubau Grundschule Holzhausen - Technische Ausrüstung A
X-WR-TIMEZONE:Europe/Berlin
BEGIN:VEVENT
UID:8871fb81f8721ac6@ausschreibungsradar.com
DTSTAMP:20260425T202517Z
DTSTART;VALUE=DATE:20241220
DTEND;VALUE=DATE:20241220
SUMMARY:Ausschreibung — Mensaneubau Grundschule Holzhausen - Technische Ausrüstung A
DESCRIPTION:Phase: Ausschreibung | Beschreibung: Angebote werden eingeholt | Link: https://ausschreibungsradar.com/ausschreibung/44f18327-c0d3-4662-ba80-a0b18870fc52/ | Geschätzter Wert: 41432 €
URL:https://ausschreibungsradar.com/ausschreibung/44f18327-c0d3-4662-ba80-a0b18870fc52/
END:VEVENT
BEGIN:VEVENT
UID:a81de0329d86bef5@ausschreibungsradar.com
DTSTAMP:20260425T202517Z
DTSTART;VALUE=DATE:20241220
DTEND;VALUE=DATE:20241220
SUMMARY:Ausschreibung — Mensaneubau Grundschule Holzhausen - Technische Ausrüstung A
DESCRIPTION:Phase: Ausschreibung | Beschreibung: Offizielle Ausschreibung mit Bieterfrist. | Link: https://ausschreibungsradar.com/ausschreibung/21fb1d2d-10f7-4551-b94e-52253ddc377b/
URL:https://ausschreibungsradar.com/ausschreibung/21fb1d2d-10f7-4551-b94e-52253ddc377b/
END:VEVENT
BEGIN:VEVENT
UID:e3e1c5a4762e4275@ausschreibungsradar.com
DTSTAMP:20260425T202517Z
DTSTART;VALUE=DATE:20241220
DTEND;VALUE=DATE:20241220
SUMMARY:Ausschreibung — Mensaneubau Grundschule Holzhausen - Technische Ausrüstung A
DESCRIPTION:Phase: Ausschreibung | Beschreibung: Offizielle Ausschreibung mit Bieterfrist. | Link: https://ausschreibungsradar.com/ausschreibung/8eb92c41-67b0-413f-b30e-ac738d2e3c75/
URL:https://ausschreibungsradar.com/ausschreibung/8eb92c41-67b0-413f-b30e-ac738d2e3c75/
END:VEVENT
BEGIN:VEVENT
UID:4617f472019a0163@ausschreibungsradar.com
DTSTAMP:20260425T202517Z
DTSTART;VALUE=DATE:20250728
DTEND;VALUE=DATE:20250728
SUMMARY:Vergabeergebnis — Mensaneubau Grundschule Holzhausen - Technische Ausrüstung A
DESCRIPTION:Phase: Vergabeergebnis | Beschreibung: Vergabeergebnis veröffentlicht | Link: https://ausschreibungsradar.com/ausschreibung/543c5232-18d7-4e40-9867-00fa9463709e/ | Geschätzter Wert: 41432 €
URL:https://ausschreibungsradar.com/ausschreibung/543c5232-18d7-4e40-9867-00fa9463709e/
END:VEVENT
END:VCALENDAR
