BEGIN:VCALENDAR
VERSION:2.0
PRODID:-//AusschreibungsRadar//Timeline//DE
CALSCALE:GREGORIAN
METHOD:PUBLISH
X-WR-CALNAME:Projekt Brainergy Park Energie GmbH wg. Vergabe Trafostationen für d
X-WR-TIMEZONE:Europe/Berlin
BEGIN:VEVENT
UID:548a4f0e3d78841d@ausschreibungsradar.com
DTSTAMP:20260425T131819Z
DTSTART;VALUE=DATE:20250429
DTEND;VALUE=DATE:20250429
SUMMARY:Angebotsfrist — Brainergy Park Energie GmbH wg. Vergabe Trafostationen für d
DESCRIPTION:Phase: Ausschreibung | Beschreibung: Angebote werden eingeholt | Link: https://ausschreibungsradar.com/ausschreibung/d2ca1bef-5e61-4622-b866-6907dd364091/
URL:https://ausschreibungsradar.com/ausschreibung/d2ca1bef-5e61-4622-b866-6907dd364091/
END:VEVENT
BEGIN:VEVENT
UID:9ca82c6f513658a4@ausschreibungsradar.com
DTSTAMP:20260425T131819Z
DTSTART;VALUE=DATE:20250930
DTEND;VALUE=DATE:20250930
SUMMARY:Ausschreibung — Brainergy Park Energie GmbH wg. Vergabe Trafostationen für d
DESCRIPTION:Phase: Ausschreibung | Beschreibung: Offizielle Ausschreibung mit Bieterfrist. | Link: https://ausschreibungsradar.com/ausschreibung/b90d5dd1-a048-49aa-b7d9-8a1d520d40cc/
URL:https://ausschreibungsradar.com/ausschreibung/b90d5dd1-a048-49aa-b7d9-8a1d520d40cc/
END:VEVENT
BEGIN:VEVENT
UID:cbf8f62d045e7bca@ausschreibungsradar.com
DTSTAMP:20260425T131819Z
DTSTART;VALUE=DATE:20251014
DTEND;VALUE=DATE:20251014
SUMMARY:Vergabeergebnis — Brainergy Park Energie GmbH wg. Vergabe Trafostationen für d
DESCRIPTION:Phase: Vergabeergebnis | Beschreibung: Auftrag wurde zugeschlagen | Link: https://ausschreibungsradar.com/ausschreibung/45131f2c-608e-43fa-b439-a2351fe61b29/
URL:https://ausschreibungsradar.com/ausschreibung/45131f2c-608e-43fa-b439-a2351fe61b29/
END:VEVENT
BEGIN:VEVENT
UID:683d857af773b653@ausschreibungsradar.com
DTSTAMP:20260425T131819Z
DTSTART;VALUE=DATE:20251015
DTEND;VALUE=DATE:20251015
SUMMARY:Zuschlag — Brainergy Park Energie GmbH wg. Vergabe Trafostationen für d
DESCRIPTION:Phase: Zuschlag | Beschreibung: Vergabeergebnis — Auftrag wurde erteilt oder Verfahren beendet. | Link: https://ausschreibungsradar.com/ausschreibung/4337c4a6-6696-4558-9e69-a5e4a63b2b8c/
URL:https://ausschreibungsradar.com/ausschreibung/4337c4a6-6696-4558-9e69-a5e4a63b2b8c/
END:VEVENT
END:VCALENDAR
