BEGIN:VCALENDAR
VERSION:2.0
PRODID:-//AusschreibungsRadar//Timeline//DE
CALSCALE:GREGORIAN
METHOD:PUBLISH
X-WR-CALNAME:Projekt Umbau/Sanierung Alte Schule Morsum/Sylt - Leistungen der Tec
X-WR-TIMEZONE:Europe/Berlin
BEGIN:VEVENT
UID:4a304f7cabbee38c@ausschreibungsradar.com
DTSTAMP:20260424T121142Z
DTSTART;VALUE=DATE:20250107
DTEND;VALUE=DATE:20250107
SUMMARY:Ausschreibung — Umbau/Sanierung Alte Schule Morsum/Sylt - Leistungen der Tec
DESCRIPTION:Phase: Ausschreibung | Beschreibung: Angebote werden eingeholt | Link: https://ausschreibungsradar.com/ausschreibung/458604c2-446f-4f6b-81f9-77c2e7446624/
URL:https://ausschreibungsradar.com/ausschreibung/458604c2-446f-4f6b-81f9-77c2e7446624/
END:VEVENT
BEGIN:VEVENT
UID:b787abf1d001825e@ausschreibungsradar.com
DTSTAMP:20260424T121142Z
DTSTART;VALUE=DATE:20250107
DTEND;VALUE=DATE:20250107
SUMMARY:Ausschreibung — Umbau/Sanierung Alte Schule Morsum/Sylt - Leistungen der Tec
DESCRIPTION:Phase: Ausschreibung | Beschreibung: Offizielle Ausschreibung mit Bieterfrist. | Link: https://ausschreibungsradar.com/ausschreibung/b2adbaab-7ae6-4e1d-8d26-c90070533fe5/
URL:https://ausschreibungsradar.com/ausschreibung/b2adbaab-7ae6-4e1d-8d26-c90070533fe5/
END:VEVENT
END:VCALENDAR
