BEGIN:VCALENDAR
VERSION:2.0
PRODID:-//AusschreibungsRadar//Timeline//DE
CALSCALE:GREGORIAN
METHOD:PUBLISH
X-WR-CALNAME:Projekt Planungs-, Bau- und Finanzierungsleistungen, Wartungsleistun
X-WR-TIMEZONE:Europe/Berlin
BEGIN:VEVENT
UID:9c51328b856fb6b9@ausschreibungsradar.com
DTSTAMP:20260424T091146Z
DTSTART;VALUE=DATE:20251002
DTEND;VALUE=DATE:20251002
SUMMARY:Ausschreibung — Planungs-\, Bau- und Finanzierungsleistungen\, Wartungsleistun
DESCRIPTION:Phase: Ausschreibung | Beschreibung: Offizielle Ausschreibung mit Bieterfrist. | Link: https://ausschreibungsradar.com/ausschreibung/0bb4644a-d6d0-40be-9ae5-0e351402149f/
URL:https://ausschreibungsradar.com/ausschreibung/0bb4644a-d6d0-40be-9ae5-0e351402149f/
END:VEVENT
BEGIN:VEVENT
UID:2e96d823e4c3f0c0@ausschreibungsradar.com
DTSTAMP:20260424T091146Z
DTSTART;VALUE=DATE:20251120
DTEND;VALUE=DATE:20251120
SUMMARY:Ausschreibung — Planungs-\, Bau- und Finanzierungsleistungen\, Wartungsleistun
DESCRIPTION:Phase: Ausschreibung | Beschreibung: Offizielle Ausschreibung mit Bieterfrist. | Link: https://ausschreibungsradar.com/ausschreibung/86bbfc92-8f90-4f6d-b1eb-90e0323ebc62/
URL:https://ausschreibungsradar.com/ausschreibung/86bbfc92-8f90-4f6d-b1eb-90e0323ebc62/
END:VEVENT
BEGIN:VEVENT
UID:0fdfd77377b5afb3@ausschreibungsradar.com
DTSTAMP:20260424T091146Z
DTSTART;VALUE=DATE:20251216
DTEND;VALUE=DATE:20251216
SUMMARY:Ausschreibung — Planungs-\, Bau- und Finanzierungsleistungen\, Wartungsleistun
DESCRIPTION:Phase: Ausschreibung | Beschreibung: Offizielle Ausschreibung mit Bieterfrist. | Link: https://ausschreibungsradar.com/ausschreibung/96782401-6595-4a14-b01f-82d6fbf27a11/
URL:https://ausschreibungsradar.com/ausschreibung/96782401-6595-4a14-b01f-82d6fbf27a11/
END:VEVENT
BEGIN:VEVENT
UID:7cbe7bfab2f2dadd@ausschreibungsradar.com
DTSTAMP:20260424T091146Z
DTSTART;VALUE=DATE:20260310
DTEND;VALUE=DATE:20260310
SUMMARY:Ausschreibung — Planungs-\, Bau- und Finanzierungsleistungen\, Wartungsleistun
DESCRIPTION:Phase: Ausschreibung | Beschreibung: Angebote werden eingeholt | Link: https://ausschreibungsradar.com/ausschreibung/459f373c-8f47-46b6-bacb-e5473c381c42/ | Geschätzter Wert: 43674073 €
URL:https://ausschreibungsradar.com/ausschreibung/459f373c-8f47-46b6-bacb-e5473c381c42/
END:VEVENT
BEGIN:VEVENT
UID:76849a5325441521@ausschreibungsradar.com
DTSTAMP:20260424T091146Z
DTSTART;VALUE=DATE:20260310
DTEND;VALUE=DATE:20260310
SUMMARY:Ausschreibung — Planungs-\, Bau- und Finanzierungsleistungen\, Wartungsleistun
DESCRIPTION:Phase: Ausschreibung | Beschreibung: Offizielle Ausschreibung mit Bieterfrist. | Link: https://ausschreibungsradar.com/ausschreibung/b76bcc82-de33-416f-ba76-085ee466c4c3/
URL:https://ausschreibungsradar.com/ausschreibung/b76bcc82-de33-416f-ba76-085ee466c4c3/
END:VEVENT
END:VCALENDAR
