BEGIN:VCALENDAR
VERSION:2.0
PRODID:-//AusschreibungsRadar//Timeline//DE
CALSCALE:GREGORIAN
METHOD:PUBLISH
X-WR-CALNAME:Projekt Tragwerksplanung, Bauphysik u. Brandschutz für die BV HONSWE
X-WR-TIMEZONE:Europe/Berlin
BEGIN:VEVENT
UID:8fee79e6c3c006db@ausschreibungsradar.com
DTSTAMP:20260425T135033Z
DTSTART;VALUE=DATE:20240201
DTEND;VALUE=DATE:20240201
SUMMARY:Angebotsfrist — Tragwerksplanung\, Bauphysik u. Brandschutz für die BV HONSWE
DESCRIPTION:Phase: Ausschreibung | Beschreibung: Angebote werden eingeholt | Link: https://ausschreibungsradar.com/ausschreibung/45f1f220-446e-472f-940f-898af0dcb150/ | Geschätzter Wert: 76000 €
URL:https://ausschreibungsradar.com/ausschreibung/45f1f220-446e-472f-940f-898af0dcb150/
END:VEVENT
END:VCALENDAR
