BEGIN:VCALENDAR
VERSION:2.0
PRODID:-//AusschreibungsRadar//Timeline//DE
CALSCALE:GREGORIAN
METHOD:PUBLISH
X-WR-CALNAME:Projekt Los 27 Möblierung
X-WR-TIMEZONE:Europe/Berlin
BEGIN:VEVENT
UID:bca60f2582863328@ausschreibungsradar.com
DTSTAMP:20260424T105453Z
DTSTART;VALUE=DATE:20251107
DTEND;VALUE=DATE:20251107
SUMMARY:Ausschreibung — Los 27 Möblierung
DESCRIPTION:Phase: Ausschreibung | Beschreibung: Offizielle Ausschreibung mit Bieterfrist. | Link: https://ausschreibungsradar.com/ausschreibung/9ccb53d6-84a3-4f42-8a73-dda102efd2ac/
URL:https://ausschreibungsradar.com/ausschreibung/9ccb53d6-84a3-4f42-8a73-dda102efd2ac/
END:VEVENT
BEGIN:VEVENT
UID:851ec6ef5f28fbea@ausschreibungsradar.com
DTSTAMP:20260424T105453Z
DTSTART;VALUE=DATE:20251112
DTEND;VALUE=DATE:20251112
SUMMARY:Ausschreibung — Los 27 Möblierung
DESCRIPTION:Phase: Ausschreibung | Beschreibung: Offizielle Ausschreibung mit Bieterfrist. | Link: https://ausschreibungsradar.com/ausschreibung/25707b18-02fb-4a38-8959-38da953b1c51/
URL:https://ausschreibungsradar.com/ausschreibung/25707b18-02fb-4a38-8959-38da953b1c51/
END:VEVENT
BEGIN:VEVENT
UID:c9e48ee638990884@ausschreibungsradar.com
DTSTAMP:20260424T105453Z
DTSTART;VALUE=DATE:20251114
DTEND;VALUE=DATE:20251114
SUMMARY:Ausschreibung — Los 27 Möblierung
DESCRIPTION:Phase: Ausschreibung | Beschreibung: Angebote werden eingeholt | Link: https://ausschreibungsradar.com/ausschreibung/46e86ed9-0bd6-4bc1-9b95-20deb08e3c8b/
URL:https://ausschreibungsradar.com/ausschreibung/46e86ed9-0bd6-4bc1-9b95-20deb08e3c8b/
END:VEVENT
BEGIN:VEVENT
UID:8f88fb3fe030ff07@ausschreibungsradar.com
DTSTAMP:20260424T105453Z
DTSTART;VALUE=DATE:20260126
DTEND;VALUE=DATE:20260126
SUMMARY:Vergabeergebnis — Los 27 Möblierung
DESCRIPTION:Phase: Vergabeergebnis | Beschreibung: Auftrag wurde zugeschlagen | Link: https://ausschreibungsradar.com/ausschreibung/cd4ec681-c187-403e-912d-c4adc31fe2b0/
URL:https://ausschreibungsradar.com/ausschreibung/cd4ec681-c187-403e-912d-c4adc31fe2b0/
END:VEVENT
END:VCALENDAR
