BEGIN:VCALENDAR
VERSION:2.0
PRODID:-//AusschreibungsRadar//Timeline//DE
CALSCALE:GREGORIAN
METHOD:PUBLISH
X-WR-CALNAME:Projekt Errichtung Feuerwehrgerätehaus Korgau - Zimmerer-, Dachdecke
X-WR-TIMEZONE:Europe/Berlin
BEGIN:VEVENT
UID:87d5df6cf4c821a6@ausschreibungsradar.com
DTSTAMP:20260424T120333Z
DTSTART;VALUE=DATE:20250319
DTEND;VALUE=DATE:20250319
SUMMARY:Angebotsfrist — Errichtung Feuerwehrgerätehaus Korgau - Zimmerer-\, Dachdecke
DESCRIPTION:Phase: Ausschreibung | Beschreibung: Angebote werden eingeholt | Link: https://ausschreibungsradar.com/ausschreibung/46f6d2e4-a3e6-455b-b5db-bbb2e18c4617/
URL:https://ausschreibungsradar.com/ausschreibung/46f6d2e4-a3e6-455b-b5db-bbb2e18c4617/
END:VEVENT
BEGIN:VEVENT
UID:18bafcbb188bcce6@ausschreibungsradar.com
DTSTAMP:20260424T120333Z
DTSTART;VALUE=DATE:20250219
DTEND;VALUE=DATE:20250219
SUMMARY:Ausschreibung — Errichtung Feuerwehrgerätehaus Korgau - Zimmerer-\, Dachdecke
DESCRIPTION:Phase: Ausschreibung | Beschreibung: Offizielle Ausschreibung mit Bieterfrist. | Link: https://ausschreibungsradar.com/ausschreibung/89ea3405-f682-4302-93f1-cc0050c68fdc/
URL:https://ausschreibungsradar.com/ausschreibung/89ea3405-f682-4302-93f1-cc0050c68fdc/
END:VEVENT
END:VCALENDAR
