BEGIN:VCALENDAR
VERSION:2.0
PRODID:-//AusschreibungsRadar//Timeline//DE
CALSCALE:GREGORIAN
METHOD:PUBLISH
X-WR-CALNAME:Projekt Fachplanung TWP
X-WR-TIMEZONE:Europe/Berlin
BEGIN:VEVENT
UID:705907a45961577e@ausschreibungsradar.com
DTSTAMP:20260425T134006Z
DTSTART;VALUE=DATE:20250617
DTEND;VALUE=DATE:20250617
SUMMARY:Ausschreibung — Fachplanung TWP
DESCRIPTION:Phase: Ausschreibung | Beschreibung: Angebote werden eingeholt | Link: https://ausschreibungsradar.com/ausschreibung/4710fe97-3027-4345-a15f-734e9575ecc0/
URL:https://ausschreibungsradar.com/ausschreibung/4710fe97-3027-4345-a15f-734e9575ecc0/
END:VEVENT
BEGIN:VEVENT
UID:e197134341857405@ausschreibungsradar.com
DTSTAMP:20260425T134006Z
DTSTART;VALUE=DATE:20251006
DTEND;VALUE=DATE:20251006
SUMMARY:Vergabeergebnis — Fachplanung TWP
DESCRIPTION:Phase: Vergabeergebnis | Beschreibung: Auftrag wurde zugeschlagen | Link: https://ausschreibungsradar.com/ausschreibung/fa0a98ee-4615-4d5b-a6af-0df5527a3d0e/
URL:https://ausschreibungsradar.com/ausschreibung/fa0a98ee-4615-4d5b-a6af-0df5527a3d0e/
END:VEVENT
END:VCALENDAR
