BEGIN:VCALENDAR
VERSION:2.0
PRODID:-//AusschreibungsRadar//Timeline//DE
CALSCALE:GREGORIAN
METHOD:PUBLISH
X-WR-CALNAME:Projekt Neubau Kindertagesstätte Schondorf am Ammersee
X-WR-TIMEZONE:Europe/Berlin
BEGIN:VEVENT
UID:9a9746b71f2be570@ausschreibungsradar.com
DTSTAMP:20260425T140023Z
DTSTART;VALUE=DATE:20240923
DTEND;VALUE=DATE:20240923
SUMMARY:Ausschreibung — Neubau Kindertagesstätte Schondorf am Ammersee
DESCRIPTION:Phase: Ausschreibung | Beschreibung: Offizielle Ausschreibung mit Bieterfrist. | Link: https://ausschreibungsradar.com/ausschreibung/6a9407e3-8114-44e3-89ed-ade824e81118/
URL:https://ausschreibungsradar.com/ausschreibung/6a9407e3-8114-44e3-89ed-ade824e81118/
END:VEVENT
BEGIN:VEVENT
UID:d75bdf602325eb19@ausschreibungsradar.com
DTSTAMP:20260425T140023Z
DTSTART;VALUE=DATE:20241122
DTEND;VALUE=DATE:20241122
SUMMARY:Angebotsfrist — Neubau Kindertagesstätte Schondorf am Ammersee
DESCRIPTION:Phase: Ausschreibung | Beschreibung: Angebote werden eingeholt | Link: https://ausschreibungsradar.com/ausschreibung/473c12b4-456d-4f9c-a35b-bac167b6f7cb/
URL:https://ausschreibungsradar.com/ausschreibung/473c12b4-456d-4f9c-a35b-bac167b6f7cb/
END:VEVENT
END:VCALENDAR
