BEGIN:VCALENDAR
VERSION:2.0
PRODID:-//AusschreibungsRadar//Timeline//DE
CALSCALE:GREGORIAN
METHOD:PUBLISH
X-WR-CALNAME:Projekt Startchancen-Programm
X-WR-TIMEZONE:Europe/Berlin
BEGIN:VEVENT
UID:251804f1c53d0565@ausschreibungsradar.com
DTSTAMP:20260425T144357Z
DTSTART;VALUE=DATE:20260206
DTEND;VALUE=DATE:20260206
SUMMARY:Ausschreibung — Startchancen-Programm
DESCRIPTION:Phase: Ausschreibung | Beschreibung: Angebote werden eingeholt | Link: https://ausschreibungsradar.com/ausschreibung/47b0f8a0-0f1a-43ce-b432-a2187b8e0a29/
URL:https://ausschreibungsradar.com/ausschreibung/47b0f8a0-0f1a-43ce-b432-a2187b8e0a29/
END:VEVENT
BEGIN:VEVENT
UID:7717a64de4b402ed@ausschreibungsradar.com
DTSTAMP:20260425T144357Z
DTSTART;VALUE=DATE:20260206
DTEND;VALUE=DATE:20260206
SUMMARY:Ausschreibung — Startchancen-Programm
DESCRIPTION:Phase: Ausschreibung | Beschreibung: Offizielle Ausschreibung mit Bieterfrist. | Link: https://ausschreibungsradar.com/ausschreibung/9689f261-f20d-42c3-affe-6ec5c8249ea4/
URL:https://ausschreibungsradar.com/ausschreibung/9689f261-f20d-42c3-affe-6ec5c8249ea4/
END:VEVENT
BEGIN:VEVENT
UID:8c398b49d7c5d0c7@ausschreibungsradar.com
DTSTAMP:20260425T144357Z
DTSTART;VALUE=DATE:20260206
DTEND;VALUE=DATE:20260206
SUMMARY:Ausschreibung — Startchancen-Programm
DESCRIPTION:Phase: Ausschreibung | Beschreibung: Offizielle Ausschreibung mit Bieterfrist. | Link: https://ausschreibungsradar.com/ausschreibung/aedf06b9-bf0f-4fe3-a848-024fcff1de38/
URL:https://ausschreibungsradar.com/ausschreibung/aedf06b9-bf0f-4fe3-a848-024fcff1de38/
END:VEVENT
END:VCALENDAR
