BEGIN:VCALENDAR
VERSION:2.0
PRODID:-//AusschreibungsRadar//Timeline//DE
CALSCALE:GREGORIAN
METHOD:PUBLISH
X-WR-CALNAME:Projekt Bautechnik und technische Gebäudeausrüstung einer Monoklärsc
X-WR-TIMEZONE:Europe/Berlin
BEGIN:VEVENT
UID:adcb7d3b9d33d866@ausschreibungsradar.com
DTSTAMP:20260426T023629Z
DTSTART;VALUE=DATE:20241217
DTEND;VALUE=DATE:20241217
SUMMARY:Ausschreibung — Bautechnik und technische Gebäudeausrüstung einer Monoklärsc
DESCRIPTION:Phase: Ausschreibung | Beschreibung: Angebote werden eingeholt | Link: https://ausschreibungsradar.com/ausschreibung/47b4b84a-0224-467d-aa40-899453fe41ce/
URL:https://ausschreibungsradar.com/ausschreibung/47b4b84a-0224-467d-aa40-899453fe41ce/
END:VEVENT
BEGIN:VEVENT
UID:16171910df036f96@ausschreibungsradar.com
DTSTAMP:20260426T023629Z
DTSTART;VALUE=DATE:20250917
DTEND;VALUE=DATE:20250917
SUMMARY:Vergabeergebnis — Bautechnik und technische Gebäudeausrüstung einer Monoklärsc
DESCRIPTION:Phase: Vergabeergebnis | Beschreibung: Auftrag wurde zugeschlagen | Link: https://ausschreibungsradar.com/ausschreibung/fb1c5ede-b0be-486a-a956-91aac2bc2635/
URL:https://ausschreibungsradar.com/ausschreibung/fb1c5ede-b0be-486a-a956-91aac2bc2635/
END:VEVENT
END:VCALENDAR
