BEGIN:VCALENDAR
VERSION:2.0
PRODID:-//AusschreibungsRadar//Timeline//DE
CALSCALE:GREGORIAN
METHOD:PUBLISH
X-WR-CALNAME:Projekt Technische Planungsleistungen für Freianlagen und Verkehrsan
X-WR-TIMEZONE:Europe/Berlin
BEGIN:VEVENT
UID:e240ec09947b2a47@ausschreibungsradar.com
DTSTAMP:20260426T025731Z
DTSTART;VALUE=DATE:20250423
DTEND;VALUE=DATE:20250423
SUMMARY:Ausschreibung — Technische Planungsleistungen für Freianlagen und Verkehrsan
DESCRIPTION:Phase: Ausschreibung | Beschreibung: Angebote werden eingeholt | Link: https://ausschreibungsradar.com/ausschreibung/47ed55ae-08b5-4abf-b5c7-8ee1fca3ba04/
URL:https://ausschreibungsradar.com/ausschreibung/47ed55ae-08b5-4abf-b5c7-8ee1fca3ba04/
END:VEVENT
BEGIN:VEVENT
UID:f51018c89573d435@ausschreibungsradar.com
DTSTAMP:20260426T025731Z
DTSTART;VALUE=DATE:20250423
DTEND;VALUE=DATE:20250423
SUMMARY:Ausschreibung — Technische Planungsleistungen für Freianlagen und Verkehrsan
DESCRIPTION:Phase: Ausschreibung | Beschreibung: Offizielle Ausschreibung mit Bieterfrist. | Link: https://ausschreibungsradar.com/ausschreibung/67d4eb62-32b5-43dd-ba8d-0e4f17da2f31/
URL:https://ausschreibungsradar.com/ausschreibung/67d4eb62-32b5-43dd-ba8d-0e4f17da2f31/
END:VEVENT
END:VCALENDAR
