BEGIN:VCALENDAR
VERSION:2.0
PRODID:-//AusschreibungsRadar//Timeline//DE
CALSCALE:GREGORIAN
METHOD:PUBLISH
X-WR-CALNAME:Projekt Gebäudefeuerversicherung für sämtliche Objekte, Gebäude und 
X-WR-TIMEZONE:Europe/Berlin
BEGIN:VEVENT
UID:ef0071dd560c7b6f@ausschreibungsradar.com
DTSTAMP:20260424T225418Z
DTSTART;VALUE=DATE:20240819
DTEND;VALUE=DATE:20240819
SUMMARY:Angebotsfrist — Gebäudefeuerversicherung für sämtliche Objekte\, Gebäude und 
DESCRIPTION:Phase: Ausschreibung | Beschreibung: Angebote werden eingeholt | Link: https://ausschreibungsradar.com/ausschreibung/487db96b-5aa5-4512-b44d-1b563b722bcb/
URL:https://ausschreibungsradar.com/ausschreibung/487db96b-5aa5-4512-b44d-1b563b722bcb/
END:VEVENT
BEGIN:VEVENT
UID:7cd90f08f9768b4e@ausschreibungsradar.com
DTSTAMP:20260424T225418Z
DTSTART;VALUE=DATE:20240628
DTEND;VALUE=DATE:20240628
SUMMARY:Ausschreibung — Gebäudefeuerversicherung für sämtliche Objekte\, Gebäude und 
DESCRIPTION:Phase: Ausschreibung | Beschreibung: Offizielle Ausschreibung mit Bieterfrist. | Link: https://ausschreibungsradar.com/ausschreibung/d12f474b-f0fc-4b0c-95cb-8b13b8424166/
URL:https://ausschreibungsradar.com/ausschreibung/d12f474b-f0fc-4b0c-95cb-8b13b8424166/
END:VEVENT
BEGIN:VEVENT
UID:8a7496ca6f0487c7@ausschreibungsradar.com
DTSTAMP:20260424T225418Z
DTSTART;VALUE=DATE:20240628
DTEND;VALUE=DATE:20240628
SUMMARY:Ausschreibung — Gebäudefeuerversicherung für sämtliche Objekte\, Gebäude und 
DESCRIPTION:Phase: Ausschreibung | Beschreibung: Offizielle Ausschreibung mit Bieterfrist. | Link: https://ausschreibungsradar.com/ausschreibung/dfa052ec-aa92-41d9-b9c2-a40bc3b66432/
URL:https://ausschreibungsradar.com/ausschreibung/dfa052ec-aa92-41d9-b9c2-a40bc3b66432/
END:VEVENT
BEGIN:VEVENT
UID:7a91ab53dbbb7c5e@ausschreibungsradar.com
DTSTAMP:20260424T225418Z
DTSTART;VALUE=DATE:20240910
DTEND;VALUE=DATE:20240910
SUMMARY:Vergabeergebnis — Gebäudefeuerversicherung für sämtliche Objekte\, Gebäude und 
DESCRIPTION:Phase: Vergabeergebnis | Beschreibung: Auftrag wurde zugeschlagen | Link: https://ausschreibungsradar.com/ausschreibung/6eb4d607-8132-4669-b976-9305e456cd40/ | Auftragnehmer: OKV - Ostdeutsche Kommuna
URL:https://ausschreibungsradar.com/ausschreibung/6eb4d607-8132-4669-b976-9305e456cd40/
END:VEVENT
END:VCALENDAR
