BEGIN:VCALENDAR
VERSION:2.0
PRODID:-//AusschreibungsRadar//Timeline//DE
CALSCALE:GREGORIAN
METHOD:PUBLISH
X-WR-CALNAME:Projekt Sanierung Rathaus
X-WR-TIMEZONE:Europe/Berlin
BEGIN:VEVENT
UID:ba708778732c21b8@ausschreibungsradar.com
DTSTAMP:20260425T220842Z
DTSTART;VALUE=DATE:20241204
DTEND;VALUE=DATE:20241204
SUMMARY:Ausschreibung — Sanierung Rathaus
DESCRIPTION:Phase: Ausschreibung | Beschreibung: Angebote werden eingeholt | Link: https://ausschreibungsradar.com/ausschreibung/6c8dd22a-fe6f-429f-8b29-7ce7d0c1a4ef/
URL:https://ausschreibungsradar.com/ausschreibung/6c8dd22a-fe6f-429f-8b29-7ce7d0c1a4ef/
END:VEVENT
BEGIN:VEVENT
UID:1bb141f4950a6f80@ausschreibungsradar.com
DTSTAMP:20260425T220842Z
DTSTART;VALUE=DATE:20250401
DTEND;VALUE=DATE:20250401
SUMMARY:Zuschlag — Sanierung Rathaus
DESCRIPTION:Phase: Zuschlag | Beschreibung: Vergabeergebnis — Auftrag wurde erteilt oder Verfahren beendet. | Link: https://ausschreibungsradar.com/ausschreibung/83a71025-d1d8-4598-88ca-3bcdd709f815/
URL:https://ausschreibungsradar.com/ausschreibung/83a71025-d1d8-4598-88ca-3bcdd709f815/
END:VEVENT
BEGIN:VEVENT
UID:b43e492dc07f87ca@ausschreibungsradar.com
DTSTAMP:20260425T220842Z
DTSTART;VALUE=DATE:20250410
DTEND;VALUE=DATE:20250410
SUMMARY:Ausschreibung — Sanierung Rathaus
DESCRIPTION:Phase: Ausschreibung | Beschreibung: Offizielle Ausschreibung mit Bieterfrist. | Link: https://ausschreibungsradar.com/ausschreibung/23693984/
URL:https://ausschreibungsradar.com/ausschreibung/23693984/
END:VEVENT
BEGIN:VEVENT
UID:36b724536053558d@ausschreibungsradar.com
DTSTAMP:20260425T220842Z
DTSTART;VALUE=DATE:20250425
DTEND;VALUE=DATE:20250425
SUMMARY:Vergabeergebnis — Sanierung Rathaus
DESCRIPTION:Phase: Vergabeergebnis | Beschreibung: Auftrag wurde zugeschlagen | Link: https://ausschreibungsradar.com/ausschreibung/48d18b0d-df13-4fc3-8cb5-bb80788157e2/
URL:https://ausschreibungsradar.com/ausschreibung/48d18b0d-df13-4fc3-8cb5-bb80788157e2/
END:VEVENT
END:VCALENDAR
