BEGIN:VCALENDAR
VERSION:2.0
PRODID:-//AusschreibungsRadar//Timeline//DE
CALSCALE:GREGORIAN
METHOD:PUBLISH
X-WR-CALNAME:Projekt Schulcampus Ost Kornwestheim
X-WR-TIMEZONE:Europe/Berlin
BEGIN:VEVENT
UID:35da3b3bb5d709a2@ausschreibungsradar.com
DTSTAMP:20260425T213648Z
DTSTART;VALUE=DATE:20231215
DTEND;VALUE=DATE:20231215
SUMMARY:Ausschreibung — Schulcampus Ost Kornwestheim
DESCRIPTION:Phase: Ausschreibung | Beschreibung: Offizielle Ausschreibung mit Bieterfrist. | Link: https://ausschreibungsradar.com/ausschreibung/48d41106-4732-4e94-9438-7d45cec81536/
URL:https://ausschreibungsradar.com/ausschreibung/48d41106-4732-4e94-9438-7d45cec81536/
END:VEVENT
BEGIN:VEVENT
UID:61d6bf6fa72acc68@ausschreibungsradar.com
DTSTAMP:20260425T213648Z
DTSTART;VALUE=DATE:20231215
DTEND;VALUE=DATE:20231215
SUMMARY:Ausschreibung — Schulcampus Ost Kornwestheim
DESCRIPTION:Phase: Ausschreibung | Beschreibung: Offizielle Ausschreibung mit Bieterfrist. | Link: https://ausschreibungsradar.com/ausschreibung/cabbce36-cde9-4f26-aa3e-2ff0204d5485/
URL:https://ausschreibungsradar.com/ausschreibung/cabbce36-cde9-4f26-aa3e-2ff0204d5485/
END:VEVENT
END:VCALENDAR
