BEGIN:VCALENDAR
VERSION:2.0
PRODID:-//AusschreibungsRadar//Timeline//DE
CALSCALE:GREGORIAN
METHOD:PUBLISH
X-WR-CALNAME:Projekt Implementierung und Inbetriebnahme einer Niederspannungsleit
X-WR-TIMEZONE:Europe/Berlin
BEGIN:VEVENT
UID:46811eda06e66d0c@ausschreibungsradar.com
DTSTAMP:20260424T205237Z
DTSTART;VALUE=DATE:20250109
DTEND;VALUE=DATE:20250109
SUMMARY:Ausschreibung — Implementierung und Inbetriebnahme einer Niederspannungsleit
DESCRIPTION:Phase: Ausschreibung | Beschreibung: Angebote werden eingeholt | Link: https://ausschreibungsradar.com/ausschreibung/48daf1b4-5bc3-48e8-8788-57f717a0d31e/
URL:https://ausschreibungsradar.com/ausschreibung/48daf1b4-5bc3-48e8-8788-57f717a0d31e/
END:VEVENT
BEGIN:VEVENT
UID:195138d20e7d7812@ausschreibungsradar.com
DTSTAMP:20260424T205237Z
DTSTART;VALUE=DATE:20250711
DTEND;VALUE=DATE:20250711
SUMMARY:Vergabeergebnis — Implementierung und Inbetriebnahme einer Niederspannungsleit
DESCRIPTION:Phase: Vergabeergebnis | Beschreibung: Auftrag wurde zugeschlagen | Link: https://ausschreibungsradar.com/ausschreibung/6fbe7492-2b71-44d5-a689-430c0d9f7431/
URL:https://ausschreibungsradar.com/ausschreibung/6fbe7492-2b71-44d5-a689-430c0d9f7431/
END:VEVENT
END:VCALENDAR
