BEGIN:VCALENDAR
VERSION:2.0
PRODID:-//AusschreibungsRadar//Timeline//DE
CALSCALE:GREGORIAN
METHOD:PUBLISH
X-WR-CALNAME:Projekt Kindergartenanbau in der Gemeinde Mittelneufnach - Architekt
X-WR-TIMEZONE:Europe/Berlin
BEGIN:VEVENT
UID:75aeb0b26e911bbf@ausschreibungsradar.com
DTSTAMP:20260424T162229Z
DTSTART;VALUE=DATE:20240513
DTEND;VALUE=DATE:20240513
SUMMARY:Ausschreibung — Kindergartenanbau in der Gemeinde Mittelneufnach - Architekt
DESCRIPTION:Phase: Ausschreibung | Beschreibung: Angebote werden eingeholt | Link: https://ausschreibungsradar.com/ausschreibung/491ec33b-8568-45ff-a81f-aae78c17ce46/
URL:https://ausschreibungsradar.com/ausschreibung/491ec33b-8568-45ff-a81f-aae78c17ce46/
END:VEVENT
BEGIN:VEVENT
UID:0ec4b4c8b1979b59@ausschreibungsradar.com
DTSTAMP:20260424T162229Z
DTSTART;VALUE=DATE:20240513
DTEND;VALUE=DATE:20240513
SUMMARY:Ausschreibung — Kindergartenanbau in der Gemeinde Mittelneufnach - Architekt
DESCRIPTION:Phase: Ausschreibung | Beschreibung: Offizielle Ausschreibung mit Bieterfrist. | Link: https://ausschreibungsradar.com/ausschreibung/de302728-8a60-48e3-9f1d-a0a0aef4a2d2/
URL:https://ausschreibungsradar.com/ausschreibung/de302728-8a60-48e3-9f1d-a0a0aef4a2d2/
END:VEVENT
BEGIN:VEVENT
UID:570f4e8fff9fa9fe@ausschreibungsradar.com
DTSTAMP:20260424T162229Z
DTSTART;VALUE=DATE:20240513
DTEND;VALUE=DATE:20240513
SUMMARY:Ausschreibung — Kindergartenanbau in der Gemeinde Mittelneufnach - Architekt
DESCRIPTION:Phase: Ausschreibung | Beschreibung: Offizielle Ausschreibung mit Bieterfrist. | Link: https://ausschreibungsradar.com/ausschreibung/899b141d-13a3-41c2-8e3a-0ee4fcbfed83/
URL:https://ausschreibungsradar.com/ausschreibung/899b141d-13a3-41c2-8e3a-0ee4fcbfed83/
END:VEVENT
BEGIN:VEVENT
UID:dd8f91536f2760e1@ausschreibungsradar.com
DTSTAMP:20260424T162229Z
DTSTART;VALUE=DATE:20240513
DTEND;VALUE=DATE:20240513
SUMMARY:Ausschreibung — Kindergartenanbau in der Gemeinde Mittelneufnach - Architekt
DESCRIPTION:Phase: Ausschreibung | Beschreibung: Offizielle Ausschreibung mit Bieterfrist. | Link: https://ausschreibungsradar.com/ausschreibung/cd2c7239-0ca3-4c68-bcfe-7dc430b33dff/
URL:https://ausschreibungsradar.com/ausschreibung/cd2c7239-0ca3-4c68-bcfe-7dc430b33dff/
END:VEVENT
BEGIN:VEVENT
UID:3ae3fa2b022079de@ausschreibungsradar.com
DTSTAMP:20260424T162229Z
DTSTART;VALUE=DATE:20240513
DTEND;VALUE=DATE:20240513
SUMMARY:Ausschreibung — Kindergartenanbau in der Gemeinde Mittelneufnach - Architekt
DESCRIPTION:Phase: Ausschreibung | Beschreibung: Offizielle Ausschreibung mit Bieterfrist. | Link: https://ausschreibungsradar.com/ausschreibung/d89e8187-dbd7-46b3-b673-be74969833cd/
URL:https://ausschreibungsradar.com/ausschreibung/d89e8187-dbd7-46b3-b673-be74969833cd/
END:VEVENT
BEGIN:VEVENT
UID:165f65d0e7ad8e3e@ausschreibungsradar.com
DTSTAMP:20260424T162229Z
DTSTART;VALUE=DATE:20250311
DTEND;VALUE=DATE:20250311
SUMMARY:Vergabeergebnis — Kindergartenanbau in der Gemeinde Mittelneufnach - Architekt
DESCRIPTION:Phase: Vergabeergebnis | Beschreibung: Auftrag wurde zugeschlagen | Link: https://ausschreibungsradar.com/ausschreibung/1c363179-abe8-43ea-813e-2404be56318d/
URL:https://ausschreibungsradar.com/ausschreibung/1c363179-abe8-43ea-813e-2404be56318d/
END:VEVENT
END:VCALENDAR
