BEGIN:VCALENDAR
VERSION:2.0
PRODID:-//AusschreibungsRadar//Timeline//DE
CALSCALE:GREGORIAN
METHOD:PUBLISH
X-WR-CALNAME:Projekt Jahresausschreibung Grünanlagen 2025 - 2027
X-WR-TIMEZONE:Europe/Berlin
BEGIN:VEVENT
UID:546167d69267fd63@ausschreibungsradar.com
DTSTAMP:20260424T203541Z
DTSTART;VALUE=DATE:20250512
DTEND;VALUE=DATE:20250512
SUMMARY:Angebotsfrist — Jahresausschreibung Grünanlagen 2025 - 2027
DESCRIPTION:Phase: Ausschreibung | Beschreibung: Angebote werden eingeholt | Link: https://ausschreibungsradar.com/ausschreibung/492a60c6-8e94-4fce-aeef-757dbf1935bf/
URL:https://ausschreibungsradar.com/ausschreibung/492a60c6-8e94-4fce-aeef-757dbf1935bf/
END:VEVENT
BEGIN:VEVENT
UID:1d0fe2c3345e183e@ausschreibungsradar.com
DTSTAMP:20260424T203541Z
DTSTART;VALUE=DATE:20250617
DTEND;VALUE=DATE:20250617
SUMMARY:Vergabeergebnis — Jahresausschreibung Grünanlagen 2025 - 2027
DESCRIPTION:Phase: Vergabeergebnis | Beschreibung: Auftrag wurde zugeschlagen | Link: https://ausschreibungsradar.com/ausschreibung/bd19a7a0-2ed7-41ed-9e2a-db8e6d683130/
URL:https://ausschreibungsradar.com/ausschreibung/bd19a7a0-2ed7-41ed-9e2a-db8e6d683130/
END:VEVENT
END:VCALENDAR
