BEGIN:VCALENDAR
VERSION:2.0
PRODID:-//AusschreibungsRadar//Timeline//DE
CALSCALE:GREGORIAN
METHOD:PUBLISH
X-WR-CALNAME:Projekt Universitätsklinikum Münster - 3800_15_606 Brandschutzsanier
X-WR-TIMEZONE:Europe/Berlin
BEGIN:VEVENT
UID:5ff458559d77e5eb@ausschreibungsradar.com
DTSTAMP:20260425T155241Z
DTSTART;VALUE=DATE:20240521
DTEND;VALUE=DATE:20240521
SUMMARY:Zuschlag — Universitätsklinikum Münster - 3800_15_606 Brandschutzsanier
DESCRIPTION:Phase: Zuschlag | Beschreibung: Vergabeergebnis — Auftrag wurde erteilt oder Verfahren beendet. | Link: https://ausschreibungsradar.com/ausschreibung/72a27ed4-f58b-418d-a609-23cc58eaf30a/
URL:https://ausschreibungsradar.com/ausschreibung/72a27ed4-f58b-418d-a609-23cc58eaf30a/
END:VEVENT
BEGIN:VEVENT
UID:9aedef6d55a50593@ausschreibungsradar.com
DTSTAMP:20260425T155241Z
DTSTART;VALUE=DATE:20240625
DTEND;VALUE=DATE:20240625
SUMMARY:Angebotsfrist — Universitätsklinikum Münster - 3800_15_606 Brandschutzsanier
DESCRIPTION:Phase: Ausschreibung | Beschreibung: Angebote werden eingeholt | Link: https://ausschreibungsradar.com/ausschreibung/4a17332d-a6df-4d1b-9c6d-3cc32e88d94e/
URL:https://ausschreibungsradar.com/ausschreibung/4a17332d-a6df-4d1b-9c6d-3cc32e88d94e/
END:VEVENT
BEGIN:VEVENT
UID:18d4bfe4d83d4442@ausschreibungsradar.com
DTSTAMP:20260425T155241Z
DTSTART;VALUE=DATE:20240603
DTEND;VALUE=DATE:20240603
SUMMARY:Ausschreibung — Universitätsklinikum Münster - 3800_15_606 Brandschutzsanier
DESCRIPTION:Phase: Ausschreibung | Beschreibung: Offizielle Ausschreibung mit Bieterfrist. | Link: https://ausschreibungsradar.com/ausschreibung/d31e670b-cf59-41bc-9317-2c881e0b54f2/
URL:https://ausschreibungsradar.com/ausschreibung/d31e670b-cf59-41bc-9317-2c881e0b54f2/
END:VEVENT
BEGIN:VEVENT
UID:5cefbf82f428943b@ausschreibungsradar.com
DTSTAMP:20260425T155241Z
DTSTART;VALUE=DATE:20240903
DTEND;VALUE=DATE:20240903
SUMMARY:Vergabeergebnis — Universitätsklinikum Münster - 3800_15_606 Brandschutzsanier
DESCRIPTION:Phase: Vergabeergebnis | Beschreibung: Auftrag wurde zugeschlagen | Link: https://ausschreibungsradar.com/ausschreibung/9b526632-930d-45c2-b6e2-469460a636de/
URL:https://ausschreibungsradar.com/ausschreibung/9b526632-930d-45c2-b6e2-469460a636de/
END:VEVENT
END:VCALENDAR
