BEGIN:VCALENDAR
VERSION:2.0
PRODID:-//AusschreibungsRadar//Timeline//DE
CALSCALE:GREGORIAN
METHOD:PUBLISH
X-WR-CALNAME:Projekt Neubau Bildungscampus Großrinderfeld - Photovoltaikanlage
X-WR-TIMEZONE:Europe/Berlin
BEGIN:VEVENT
UID:316d8d85c3e95acb@ausschreibungsradar.com
DTSTAMP:20260425T143626Z
DTSTART;VALUE=DATE:20251103
DTEND;VALUE=DATE:20251103
SUMMARY:Angebotsfrist — Neubau Bildungscampus Großrinderfeld - Photovoltaikanlage
DESCRIPTION:Phase: Ausschreibung | Beschreibung: Angebote werden eingeholt | Link: https://ausschreibungsradar.com/ausschreibung/4a375db8-6ab7-4954-bdae-a34aab73e2e6/
URL:https://ausschreibungsradar.com/ausschreibung/4a375db8-6ab7-4954-bdae-a34aab73e2e6/
END:VEVENT
BEGIN:VEVENT
UID:cf53dc38ee362838@ausschreibungsradar.com
DTSTAMP:20260425T143626Z
DTSTART;VALUE=DATE:20251002
DTEND;VALUE=DATE:20251002
SUMMARY:Ausschreibung — Neubau Bildungscampus Großrinderfeld - Photovoltaikanlage
DESCRIPTION:Phase: Ausschreibung | Beschreibung: Offizielle Ausschreibung mit Bieterfrist. | Link: https://ausschreibungsradar.com/ausschreibung/60d7a2ab-bdb3-4bd8-8a1a-198965fc1f36/
URL:https://ausschreibungsradar.com/ausschreibung/60d7a2ab-bdb3-4bd8-8a1a-198965fc1f36/
END:VEVENT
BEGIN:VEVENT
UID:d40c09db09f9e123@ausschreibungsradar.com
DTSTAMP:20260425T143626Z
DTSTART;VALUE=DATE:20260109
DTEND;VALUE=DATE:20260109
SUMMARY:Vergabeergebnis — Neubau Bildungscampus Großrinderfeld - Photovoltaikanlage
DESCRIPTION:Phase: Vergabeergebnis | Beschreibung: Auftrag wurde zugeschlagen | Link: https://ausschreibungsradar.com/ausschreibung/947ed962-8a5f-47eb-af16-61bb4f3b0d3e/
URL:https://ausschreibungsradar.com/ausschreibung/947ed962-8a5f-47eb-af16-61bb4f3b0d3e/
END:VEVENT
END:VCALENDAR
