BEGIN:VCALENDAR
VERSION:2.0
PRODID:-//AusschreibungsRadar//Timeline//DE
CALSCALE:GREGORIAN
METHOD:PUBLISH
X-WR-CALNAME:Projekt Lieferung und Einbau von Endokopieaufbereitungsanlagen
X-WR-TIMEZONE:Europe/Berlin
BEGIN:VEVENT
UID:b4eb6ebae8e2c983@ausschreibungsradar.com
DTSTAMP:20260425T134849Z
DTSTART;VALUE=DATE:20260402
DTEND;VALUE=DATE:20260402
SUMMARY:Ausschreibung — Lieferung und Einbau von Endokopieaufbereitungsanlagen
DESCRIPTION:Phase: Ausschreibung | Beschreibung: Angebote werden eingeholt | Link: https://ausschreibungsradar.com/ausschreibung/4a409664-2445-4096-8e98-fd412e357dfa/
URL:https://ausschreibungsradar.com/ausschreibung/4a409664-2445-4096-8e98-fd412e357dfa/
END:VEVENT
BEGIN:VEVENT
UID:6c234254283dc513@ausschreibungsradar.com
DTSTAMP:20260425T134849Z
DTSTART;VALUE=DATE:20260402
DTEND;VALUE=DATE:20260402
SUMMARY:Ausschreibung — Lieferung und Einbau von Endokopieaufbereitungsanlagen
DESCRIPTION:Phase: Ausschreibung | Beschreibung: Offizielle Ausschreibung mit Bieterfrist. | Link: https://ausschreibungsradar.com/ausschreibung/44b9a3a5-0d42-443f-bf19-ad749a71b723/
URL:https://ausschreibungsradar.com/ausschreibung/44b9a3a5-0d42-443f-bf19-ad749a71b723/
END:VEVENT
BEGIN:VEVENT
UID:06509c40747d8035@ausschreibungsradar.com
DTSTAMP:20260425T134849Z
DTSTART;VALUE=DATE:20260407
DTEND;VALUE=DATE:20260407
SUMMARY:Ausschreibung — Lieferung und Einbau von Endokopieaufbereitungsanlagen
DESCRIPTION:Phase: Ausschreibung | Beschreibung: Offizielle Ausschreibung mit Bieterfrist. | Link: https://ausschreibungsradar.com/ausschreibung/ted-234377-2026/
URL:https://ausschreibungsradar.com/ausschreibung/ted-234377-2026/
END:VEVENT
END:VCALENDAR
