BEGIN:VCALENDAR
VERSION:2.0
PRODID:-//AusschreibungsRadar//Timeline//DE
CALSCALE:GREGORIAN
METHOD:PUBLISH
X-WR-CALNAME:Projekt Abfallentsorgung und Reinigung auf den Parkplätzen im Zustän
X-WR-TIMEZONE:Europe/Berlin
BEGIN:VEVENT
UID:00c0c0ae2f4748d6@ausschreibungsradar.com
DTSTAMP:20260425T185048Z
DTSTART;VALUE=DATE:20240513
DTEND;VALUE=DATE:20240513
SUMMARY:Angebotsfrist — Abfallentsorgung und Reinigung auf den Parkplätzen im Zustän
DESCRIPTION:Phase: Ausschreibung | Beschreibung: Angebote werden eingeholt | Link: https://ausschreibungsradar.com/ausschreibung/f9b2a5e7-1eff-448c-ad3e-5d378c22d76e/
URL:https://ausschreibungsradar.com/ausschreibung/f9b2a5e7-1eff-448c-ad3e-5d378c22d76e/
END:VEVENT
BEGIN:VEVENT
UID:2ba747534ae22855@ausschreibungsradar.com
DTSTAMP:20260425T185048Z
DTSTART;VALUE=DATE:20240411
DTEND;VALUE=DATE:20240411
SUMMARY:Ausschreibung — Abfallentsorgung und Reinigung auf den Parkplätzen im Zustän
DESCRIPTION:Phase: Ausschreibung | Beschreibung: Offizielle Ausschreibung mit Bieterfrist. | Link: https://ausschreibungsradar.com/ausschreibung/fba9baa0-c986-416c-8f4a-c79f7d3ff0cc/
URL:https://ausschreibungsradar.com/ausschreibung/fba9baa0-c986-416c-8f4a-c79f7d3ff0cc/
END:VEVENT
BEGIN:VEVENT
UID:cf941bd4479fadd1@ausschreibungsradar.com
DTSTAMP:20260425T185048Z
DTSTART;VALUE=DATE:20240516
DTEND;VALUE=DATE:20240516
SUMMARY:Zuschlag — Abfallentsorgung und Reinigung auf den Parkplätzen im Zustän
DESCRIPTION:Phase: Zuschlag | Beschreibung: Vergabeergebnis — Auftrag wurde erteilt oder Verfahren beendet. | Link: https://ausschreibungsradar.com/ausschreibung/cff1cad4-4335-4565-8d26-d24283f75601/
URL:https://ausschreibungsradar.com/ausschreibung/cff1cad4-4335-4565-8d26-d24283f75601/
END:VEVENT
BEGIN:VEVENT
UID:ae9b8c64f86e2b64@ausschreibungsradar.com
DTSTAMP:20260425T185048Z
DTSTART;VALUE=DATE:20240603
DTEND;VALUE=DATE:20240603
SUMMARY:Vergabeergebnis — Abfallentsorgung und Reinigung auf den Parkplätzen im Zustän
DESCRIPTION:Phase: Vergabeergebnis | Beschreibung: Auftrag wurde zugeschlagen | Link: https://ausschreibungsradar.com/ausschreibung/4a7e862d-4b0c-4711-aa58-f34f174b2da2/
URL:https://ausschreibungsradar.com/ausschreibung/4a7e862d-4b0c-4711-aa58-f34f174b2da2/
END:VEVENT
END:VCALENDAR
