BEGIN:VCALENDAR
VERSION:2.0
PRODID:-//AusschreibungsRadar//Timeline//DE
CALSCALE:GREGORIAN
METHOD:PUBLISH
X-WR-CALNAME:Projekt 174+175+204, Neubau von 3 KFZ-Hallen (frostfrei)

Stetten a.
X-WR-TIMEZONE:Europe/Berlin
BEGIN:VEVENT
UID:86149790060f9707@ausschreibungsradar.com
DTSTAMP:20260425T130059Z
DTSTART;VALUE=DATE:20251020
DTEND;VALUE=DATE:20251020
SUMMARY:Vertragsmodifikation — 174+175+204\, Neubau von 3 KFZ-Hallen (frostfrei)\n\nStetten a.
DESCRIPTION:Phase: Vertragsmodifikation | Beschreibung: Änderung am bestehenden Vertrag nach Zuschlag. | Link: https://ausschreibungsradar.com/ausschreibung/9d936633-100e-490c-a1e6-53ee27915acc/
URL:https://ausschreibungsradar.com/ausschreibung/9d936633-100e-490c-a1e6-53ee27915acc/
END:VEVENT
BEGIN:VEVENT
UID:6c9d1b2c1a47224e@ausschreibungsradar.com
DTSTAMP:20260425T130059Z
DTSTART;VALUE=DATE:20251105
DTEND;VALUE=DATE:20251105
SUMMARY:Vertragsmodifikation — 174+175+204\, Neubau von 3 KFZ-Hallen (frostfrei)\n\nStetten a.
DESCRIPTION:Phase: Vertragsmodifikation | Beschreibung: Änderung am bestehenden Vertrag nach Zuschlag. | Link: https://ausschreibungsradar.com/ausschreibung/4a860dc6-7ab7-477d-90cf-98c88330ea7b/ | Geschätzter Wer
URL:https://ausschreibungsradar.com/ausschreibung/4a860dc6-7ab7-477d-90cf-98c88330ea7b/
END:VEVENT
END:VCALENDAR
