BEGIN:VCALENDAR
VERSION:2.0
PRODID:-//AusschreibungsRadar//Timeline//DE
CALSCALE:GREGORIAN
METHOD:PUBLISH
X-WR-CALNAME:Projekt Gebäudereinigung Studierendenwerk Wuppertal
X-WR-TIMEZONE:Europe/Berlin
BEGIN:VEVENT
UID:f6b4584352dc5915@ausschreibungsradar.com
DTSTAMP:20260424T063051Z
DTSTART;VALUE=DATE:20250722
DTEND;VALUE=DATE:20250722
SUMMARY:Angebotsfrist — Gebäudereinigung Studierendenwerk Wuppertal
DESCRIPTION:Phase: Ausschreibung | Beschreibung: Angebote werden eingeholt | Link: https://ausschreibungsradar.com/ausschreibung/4ae8b672-7fcf-4773-b3c7-3afcb7a353e0/
URL:https://ausschreibungsradar.com/ausschreibung/4ae8b672-7fcf-4773-b3c7-3afcb7a353e0/
END:VEVENT
BEGIN:VEVENT
UID:a55f1ea96d403d46@ausschreibungsradar.com
DTSTAMP:20260424T063051Z
DTSTART;VALUE=DATE:20250606
DTEND;VALUE=DATE:20250606
SUMMARY:Ausschreibung — Gebäudereinigung Studierendenwerk Wuppertal
DESCRIPTION:Phase: Ausschreibung | Beschreibung: Offizielle Ausschreibung mit Bieterfrist. | Link: https://ausschreibungsradar.com/ausschreibung/bf11cb0a-84fd-4b77-9757-41ea116e4acb/
URL:https://ausschreibungsradar.com/ausschreibung/bf11cb0a-84fd-4b77-9757-41ea116e4acb/
END:VEVENT
BEGIN:VEVENT
UID:825853eb3b74988c@ausschreibungsradar.com
DTSTAMP:20260424T063051Z
DTSTART;VALUE=DATE:20250916
DTEND;VALUE=DATE:20250916
SUMMARY:Vergabeergebnis — Gebäudereinigung Studierendenwerk Wuppertal
DESCRIPTION:Phase: Vergabeergebnis | Beschreibung: Auftrag wurde zugeschlagen | Link: https://ausschreibungsradar.com/ausschreibung/3771395d-106d-43bc-8a32-105926fe4831/
URL:https://ausschreibungsradar.com/ausschreibung/3771395d-106d-43bc-8a32-105926fe4831/
END:VEVENT
END:VCALENDAR
