BEGIN:VCALENDAR
VERSION:2.0
PRODID:-//AusschreibungsRadar//Timeline//DE
CALSCALE:GREGORIAN
METHOD:PUBLISH
X-WR-CALNAME:Projekt Malerarbeiten Veranstaltungsraum Süd 5 Genthin
X-WR-TIMEZONE:Europe/Berlin
BEGIN:VEVENT
UID:9533736595706524@ausschreibungsradar.com
DTSTAMP:20260426T013251Z
DTSTART;VALUE=DATE:20251210
DTEND;VALUE=DATE:20251210
SUMMARY:Angebotsfrist — Malerarbeiten Veranstaltungsraum Süd 5 Genthin
DESCRIPTION:Phase: Ausschreibung | Beschreibung: Angebote werden eingeholt | Link: https://ausschreibungsradar.com/ausschreibung/4bc08552-3ff2-4827-a9b8-723d2c4247d8/
URL:https://ausschreibungsradar.com/ausschreibung/4bc08552-3ff2-4827-a9b8-723d2c4247d8/
END:VEVENT
END:VCALENDAR
