BEGIN:VCALENDAR
VERSION:2.0
PRODID:-//AusschreibungsRadar//Timeline//DE
CALSCALE:GREGORIAN
METHOD:PUBLISH
X-WR-CALNAME:Projekt 43 Neubau städtische Sporthalle Turnstraße - Los 17 Sportbod
X-WR-TIMEZONE:Europe/Berlin
BEGIN:VEVENT
UID:3c00e9e6881459b4@ausschreibungsradar.com
DTSTAMP:20260424T230149Z
DTSTART;VALUE=DATE:20250710
DTEND;VALUE=DATE:20250710
SUMMARY:Ausschreibung — 43 Neubau städtische Sporthalle Turnstraße - Los 17 Sportbod
DESCRIPTION:Phase: Ausschreibung | Beschreibung: Offizielle Ausschreibung mit Bieterfrist. | Link: https://ausschreibungsradar.com/ausschreibung/62fc1b20-8dff-4006-b834-f1a692a0dcfe/
URL:https://ausschreibungsradar.com/ausschreibung/62fc1b20-8dff-4006-b834-f1a692a0dcfe/
END:VEVENT
BEGIN:VEVENT
UID:3b07d5546adf5c82@ausschreibungsradar.com
DTSTAMP:20260424T230149Z
DTSTART;VALUE=DATE:20250827
DTEND;VALUE=DATE:20250827
SUMMARY:Angebotsfrist — 43 Neubau städtische Sporthalle Turnstraße - Los 17 Sportbod
DESCRIPTION:Phase: Ausschreibung | Beschreibung: Angebote werden eingeholt | Link: https://ausschreibungsradar.com/ausschreibung/4c90f19b-d790-4567-8e54-bf5d171079aa/
URL:https://ausschreibungsradar.com/ausschreibung/4c90f19b-d790-4567-8e54-bf5d171079aa/
END:VEVENT
END:VCALENDAR
